BEGIN:VCALENDAR
VERSION:2.0
PRODID:-//Raförninn ehf - ECPv6.15.11//NONSGML v1.0//EN
CALSCALE:GREGORIAN
METHOD:PUBLISH
X-ORIGINAL-URL:https://raforninn.is
X-WR-CALDESC:Events for Raförninn ehf
REFRESH-INTERVAL;VALUE=DURATION:PT1H
X-Robots-Tag:noindex
X-PUBLISHED-TTL:PT1H
BEGIN:VTIMEZONE
TZID:UTC
BEGIN:STANDARD
TZOFFSETFROM:+0000
TZOFFSETTO:+0000
TZNAME:UTC
DTSTART:20160101T000000
END:STANDARD
END:VTIMEZONE
BEGIN:VTIMEZONE
TZID:Atlantic/Reykjavik
BEGIN:STANDARD
TZOFFSETFROM:+0000
TZOFFSETTO:+0000
TZNAME:GMT
DTSTART:20160101T000000
END:STANDARD
END:VTIMEZONE
BEGIN:VEVENT
DTSTART;TZID=UTC:20180524T090000
DTEND;TZID=UTC:20180525T090000
DTSTAMP:20260423T081706
CREATED:20180514T233352Z
LAST-MODIFIED:20180514T233429Z
UID:1118-1527152400-1527238800@raforninn.is
SUMMARY:Diplómadagar námsbrautar í geislafræði
DESCRIPTION:Segja má að hinn árlegi diplómadagur námsbrautar í geislafræði hafi tvöfaldast því hann spannar tvo daga þetta árið\, fimmtudaginn 24. maí nk. og föstudaginn 25. Vekja má athygli á að öllum áhugasömum er velkomið að koma og fylgjast með útskriftarnemum verja verkefni sín\, sjá nánar í auglýsingu. \nDiplómadagurinn er haldinn í Stapa\, Háskóla Íslands
URL:https://raforninn.is/event/diplomadagar-namsbrautar-i-geislafraedi/
LOCATION:Háskóli Íslands – Stapi\, Sæmundargata 2\, Reykjavik\, 101\, Iceland
END:VEVENT
BEGIN:VEVENT
DTSTART;TZID=UTC:20180426T130000
DTEND;TZID=UTC:20180426T170000
DTSTAMP:20260423T081706
CREATED:20180424T153647Z
LAST-MODIFIED:20180424T153647Z
UID:1101-1524747600-1524762000@raforninn.is
SUMMARY:Heilbrigðistæknidagurinn 2018
DESCRIPTION:Heilbrigðistækidagurinn 2018 verður fimmtudaginn 26. apríl í Háskólanum í Reykjavík. \nYfirskriftin er „Heimkynni hugsunar og drauma. Framfarir í heila og taugarannsóknum.“ \nFyrir heilbrigðistæknideginum standa Heilbrigðistæknifélag Íslands\, Landspítali og Háskólinn í Reykjavík. \nHeilbrigðistæknidagurinn er öllum opinn\, án þátttökugjalds\, en fólk er beðið að skrá sig á skraning@ru.is \nSjá nánar á vef Landspítala
URL:https://raforninn.is/event/heilbrigdistaeknidagurinn-2018/
LOCATION:Háskólinn í Reykjavík\, Menntavegur 1\, Reykjavík\, 101\, Iceland
END:VEVENT
BEGIN:VEVENT
DTSTART;TZID=UTC:20180423T200000
DTEND;TZID=UTC:20180423T220000
DTSTAMP:20260423T081706
CREATED:20180412T184119Z
LAST-MODIFIED:20180412T184119Z
UID:1084-1524513600-1524520800@raforninn.is
SUMMARY:Aðalfundur Félags geislafræðinga
DESCRIPTION:Félag geislafræðinga heldur aðalfund sinn  \nmánudaginn 23. apríl 2018\, \nkl. 20:00\, \nað Borgartúni 6 í Reykjavík \ní stóra fundarsalnum á 3. hæð \nVonast er til að sem allra flestir félagsmenn sjái sér fært að mæta.
URL:https://raforninn.is/event/adalfundur-felags-geislafraedinga/
LOCATION:Borgartún 6\, Borgartún 6\, Reykjavík\, 105\, Iceland
END:VEVENT
BEGIN:VEVENT
DTSTART;VALUE=DATE:20180406
DTEND;VALUE=DATE:20180422
DTSTAMP:20260423T081706
CREATED:20180409T150039Z
LAST-MODIFIED:20180409T154227Z
UID:1075-1522972800-1524355199@raforninn.is
SUMMARY:Atvinna: Geislafræðingur - Orkuhúsið
DESCRIPTION:Röntgen Orkuhús óskar eftir geislafræðingi í fullt starf\, reynsla af tölvusneiðmyndarannsóknum æskileg. \nFullt starf telst vinna milli 8 og 17 fjóra daga vikunnar. \nÞyrfti að geta hafið störf sem fyrst. \nUmsóknarfrestur er til 20. apríl nk. \nÁhugasamir mega gjarnan leita upplýsinga hjá Einfríði í 8608856 eða einfridur@rontgen.is  eða Arnþóri 8527552\, arnthor@rontgen.is \nwww.rontgen.is \n  \n 
URL:https://raforninn.is/event/geislafraedingur-orkuhusid/
END:VEVENT
BEGIN:VEVENT
DTSTART;VALUE=DATE:20180228
DTEND;VALUE=DATE:20180305
DTSTAMP:20260423T081706
CREATED:20180216T195501Z
LAST-MODIFIED:20180216T195501Z
UID:973-1519776000-1520207999@raforninn.is
SUMMARY:Íslendingar á ECR 2018
DESCRIPTION:Hérna er hinn klassíski listi Arnartíðinda yfir Íslendinga sem hefur frést að verði á ECR 2018.
URL:https://raforninn.is/event/islendingar-a-ecr-2018/
END:VEVENT
BEGIN:VEVENT
DTSTART;VALUE=DATE:20180228
DTEND;VALUE=DATE:20180305
DTSTAMP:20260423T081706
CREATED:20171206T181554Z
LAST-MODIFIED:20180209T215543Z
UID:908-1519776000-1520207999@raforninn.is
SUMMARY:ECR 2018
DESCRIPTION:Stærsti viðburður innan myndgreiningar í Evrópu ár hvert er European Congress of Radiology sem haldin er í Vínarborg snemma vors. Ráðstefnan árið 2018 verður dagana 28. febrúar til 4. mars. \nListi yfir íslenskt myndgreiningarfólk sem frést hefur að sé á leið á ECR er hér á raforninn.is \nNánari upplýsingar og skráning eru á vefsíðu ráðstefnunnar.
URL:https://raforninn.is/event/ecr-2018/
LOCATION:Austria Center Vienna\, Bruno-Kreisky-Platz 1\, Wien\, 1220\, Austria
END:VEVENT
BEGIN:VEVENT
DTSTART;VALUE=DATE:20180202
DTEND;VALUE=DATE:20180204
DTSTAMP:20260423T081706
CREATED:20170913T183017Z
LAST-MODIFIED:20180122T230325Z
UID:781-1517529600-1517702399@raforninn.is
SUMMARY:UT messan 2018
DESCRIPTION:Upplýsingatækni leikur stórt hlutverk í læknisfræðilegri myndgreiningu og UT messan er fínt tækifæri til að sjá það nýjasta í tölvugeiranum. Það besta er að þarna er heilmargt fyrir tæknitröll og tölvugúrúa en líka sýningar og kynningar á „mannamáli“ fyrir almenning. \nÚr kynningartexta ráðstefnunnar: „UTmessan er einn stærsti viðburður ársins í tölvugeiranum og hefur verið haldin árlega frá árinu 2011. Tilgangurinn er ekki síst til að sýna almenningi hversu stór og umfangsmikil þessi grein er orðin hér á landi. Á UTmessuna mæta öll helstu tölvu- og tæknifyrirtæki landsins og taka þátt með einum eða öðrum hætti og hvetja þannig fólk til að kynna sér um hvað tölvuiðnaðurinn snýst.“ \nNánari upplýsingar og skráning á utmessan.is
URL:https://raforninn.is/event/ut-messan-2018/
LOCATION:Harpa Conference Center\, Austurbakka 2\, Reykjavík\, 101\, Iceland
END:VEVENT
BEGIN:VEVENT
DTSTART;VALUE=DATE:20180115
DTEND;VALUE=DATE:20180120
DTSTAMP:20260423T081706
CREATED:20180110T221203Z
LAST-MODIFIED:20180110T221240Z
UID:951-1515974400-1516406399@raforninn.is
SUMMARY:Læknadagar 2018
DESCRIPTION:Hinir árlegu Læknadagar standa yfir frá 15. til 19. janúar þetta árið og dagskráin er að vanda metnaðarfull\, þéttskipuð fróðlegum og skemmtilegum viðburðum. Í ár á Læknafélag Íslands 100 ára afmæli og nokkrir dagskrárliðir tengjast þeim tímamótum. Aðrar heilbrigðisstéttir en læknar eru einnig hvattar til að sækja dagskrárliði á Læknadögum. \nSjá nánar í frétt Arnartíðinda 10.01.18
URL:https://raforninn.is/event/laeknadagar-2018/
LOCATION:Harpa Conference Center\, Austurbakka 2\, Reykjavík\, 101\, Iceland
END:VEVENT
BEGIN:VEVENT
DTSTART;TZID=UTC:20180112T140000
DTEND;TZID=UTC:20180112T160000
DTSTAMP:20260423T081706
CREATED:20180110T220823Z
LAST-MODIFIED:20180110T220823Z
UID:949-1515765600-1515772800@raforninn.is
SUMMARY:Málþing um nýja persónuverndarlöggjöf
DESCRIPTION:Þetta málþing er áhugavert fyrir allt heilbrigðisstarfsfólk\, ekki síst myndgreiningarfólk með öll okkar bókana-\, myndvinnslu- og myndgreymslukerfi! Mjög gott framtak hjá Landspítala og Persónuvernd.\nATHUGIÐ: Til að áætla fjölda er óskað eftir að fólk skrái sig með því að senda póst á skraning@personuvernd.is\nMálþinginu verður streymt á vefsíðu Persónuverndar
URL:https://raforninn.is/event/malthing-um-nyja-personuverndarloggjof/
END:VEVENT
BEGIN:VEVENT
DTSTART;TZID=UTC:20171214T200000
DTEND;TZID=UTC:20171214T220000
DTSTAMP:20260423T081706
CREATED:20171208T012657Z
LAST-MODIFIED:20171208T012803Z
UID:911-1513281600-1513288800@raforninn.is
SUMMARY:Jólafundur Félags geislafræðinga
DESCRIPTION:
URL:https://raforninn.is/event/jolafundur-felags-geislafraedinga/
LOCATION:Borgartún 6\, Borgartún 6\, Reykjavík\, 105\, Iceland
END:VEVENT
BEGIN:VEVENT
DTSTART;VALUE=DATE:20171126
DTEND;VALUE=DATE:20171202
DTSTAMP:20260423T081706
CREATED:20170802T160605Z
LAST-MODIFIED:20171114T161426Z
UID:665-1511654400-1512172799@raforninn.is
SUMMARY:RSNA 2017
DESCRIPTION:Ráðstefna Radiological Society of North America er stærsti viðburðurinn í myndgreiningarheiminum ár hvert. Það er nauðsynlegt fyrir alla úr hópi myndgreiningarfólks að fara a.m.k. einu sinni á RSNA og til þess að halda sér ferskum í starfi er best að fara sem oftast. \nHefðbundinn lista Arnartíðinda yfir íslenskt myndgreiningarfólk á RSNA ráðstefnunni er að finna hér. \nÍ ár stendur ráðstefnan yfir frá 26. nóvember til 1. desember og þema ráðstefnunnar að þessu sinni er „Explore\, Invent\, Transform“.\nÞessi orð geta átt við margt í síbreytilega faginu okkar en ekki síst gæðamál\, þar sem mikilvægt er að kanna stöðuna\, finna leiðir til úrbóta og gera breytingar! \nNánari upplýsingar og skráning eru á vefsíðu RSNA.
URL:https://raforninn.is/event/rsna-2017/
LOCATION:McCormick Place\, Chicago\, McCormick Place\, Chicago\, IL\, United States
END:VEVENT
BEGIN:VEVENT
DTSTART;VALUE=DATE:20171113
DTEND;VALUE=DATE:20171203
DTSTAMP:20260423T081706
CREATED:20171113T215208Z
LAST-MODIFIED:20171113T215208Z
UID:854-1510531200-1512259199@raforninn.is
SUMMARY:RSNA listinn 2017
DESCRIPTION:Hinn árvissi og sívinsæli listi Arnartíðinda yfir íslenskt myndgreiningarfólk á RSNA ráðstefnunni er kominn á vefinn! \nRSNA listinn 2017
URL:https://raforninn.is/event/rsna-listinn-2017/
END:VEVENT
BEGIN:VEVENT
DTSTART;VALUE=DATE:20171113
DTEND;VALUE=DATE:20171116
DTSTAMP:20260423T081706
CREATED:20170607T201253Z
LAST-MODIFIED:20170913T201823Z
UID:589-1510531200-1510790399@raforninn.is
SUMMARY:Námskeið: Auknar kröfur til aðila sem vinna með persónuupplýsingar
DESCRIPTION:Ný persónuverndarlöggjöf getur breytt starfsumhverfi heilbrigðisstarfsfólks og er mikilvægt\, sérstaklega fyrir stjórnendur\, að kynna sér breytingarnar. \nÚr kynningartexta námskeiðsins: \n„Ný Evrópureglugerð um persónuvernd kemur til framkvæmda í maí 2018 og mun hún umbreyta starfsumhverfi allra sem vinna með persónuupplýsingar. Mjög mikilvægt er að fyrirtæki og stofnanir séu í stakk búin við að standast strangar kröfur hinnar nýju löggjafar\, aðlagi starfsemi sína að settum reglum og tryggi einstaklingum þann aukna rétt sem reglugerðin veitir þeim ellegar eiga hættu á háum sektum frá eftirlitsstofnunum í Evrópu.“ \nAthugið að nokkur námskeið verða haldin\, þannig að þó fullbókað sé á einhver námskeið er tækifæri á að komast að seinna.\nNánari upplýsingar og skráning á vefsíðu Endurmenntunar HÍ \n 
URL:https://raforninn.is/event/namskeid-auknar-krofur-til-adila-sem-vinna-med-personuupplysingar/
LOCATION:Endurmenntun HÍ\, Dunhagi 7\, Reykjavik\, Iceland
END:VEVENT
BEGIN:VEVENT
DTSTART;VALUE=DATE:20171110
DTEND;VALUE=DATE:20171111
DTSTAMP:20260423T081706
CREATED:20171014T190612Z
LAST-MODIFIED:20171027T190343Z
UID:826-1510272000-1510358399@raforninn.is
SUMMARY:Opið hús hjá Raferninum !!
DESCRIPTION:Við búum til þriðja í Röntgendegi og höfum opið hús föstudaginn 10. nóvember næstkomandi! \nMyndgreiningarfólk er velkomið í heimsókn að Suðurhlíð 35 í Reykjavík\, hvort sem um er að ræða núverandi\, fyrrverandi eða tilvonandi viðskiptavini og samstarfsfólk 🙂 \nGóðar veitingar verða í boði\, eitthvað verður sér til gamans gert og félagsskapurinn að sjálfsögðu frábær! \nHúsið opnar kl. 17 og við vonumst til að sjá sem allra flesta. \nMeð bestu kveðjum frá starfsfólki Rafarnarins.
URL:https://raforninn.is/event/opid-hus-hja-raferninum/
ATTACH;FMTTYPE=image/jpeg:https://raforninn.is/wp-content/uploads/2017/10/tom-sodoge-95550.jpg
END:VEVENT
BEGIN:VEVENT
DTSTART;TZID=UTC:20171024T130000
DTEND;TZID=UTC:20171024T160000
DTSTAMP:20260423T081706
CREATED:20170607T195650Z
LAST-MODIFIED:20170607T195809Z
UID:584-1508850000-1508860800@raforninn.is
SUMMARY:Námskeið: Vönduð íslenska - tölvupóstar & stuttir textar
DESCRIPTION:Gagnlegt námskeið hjá Endurmenntun HÍ. \nÚr kynningartexta námskeiðsins: „Í langflestum tilvikum eru textar samdir til þess að aðrir lesi þá. Nokkur lykilatriði sem hafa verður í huga eru tími\, sjálfsöryggi\, þekking á viðfangsefni\, bygging texta\, málfar og birting. Farið verður í nokkur helstu einkenni texta sem samdir eru á íslensku og þátttakendur þjálfaðir í að semja stutta texta\, t.d. tölvupósta\, efni á innri vefi\, heimasíður og fréttabréf.“ \nNánari upplýsingar og skráning á vefsíðu EHÍ
URL:https://raforninn.is/event/namskeid-vondud-islenska-tolvupostar-stuttir-textar/
LOCATION:Endurmenntun HÍ\, Dunhagi 7\, Reykjavik\, Iceland
END:VEVENT
BEGIN:VEVENT
DTSTART;VALUE=DATE:20170927
DTEND;VALUE=DATE:20170929
DTSTAMP:20260423T081706
CREATED:20170529T174213Z
LAST-MODIFIED:20170529T174632Z
UID:573-1506470400-1506643199@raforninn.is
SUMMARY:Norræn ráðstefna um eftirlit í heilbrigðis- og félagsþjónustu
DESCRIPTION:  \n„Hvernig bætum við öryggi sjúklinga og notenda þjónustunnar?“ er yfirskrift ráðstefnu sem Embætti landlæknis heldur í Hörpu dagana 27. – 29. september næstkomandi. Um er að ræða ráðstefnu Norrænna eftirlitsstofnana sem hafa eftirlit með þeim sem veita heilbrigðis- og félagsþjónustu. Reiknað er með að á annað hundrað þátttakendur frá öllum Norðurlöndunum sæki ráðstefnuna. \nFjallað verður um hlutverk og vinnulag eftirlitsstofnana og hvernig því sé best háttað til þess að auka öryggi þeirra sem nota þjónustuna. Óhætt er að fullyrða að dagskráin er ekki aðeins gagnleg þeim sem sinna eftirlitsstarfi heldur einnig þeim sem veita heilbrigðis- og félagsþjónustu. \nEmbætti landlæknis hvetur þá sem vinna að gæðum og öryggi heilbrigðis- og félagsþjónustunnar að skrá sig á ráðstefnuna. \nSkráning er á vefsíðunni nordisktillsynskonferens.is og þar er einnig að finna dagskrá ráðstefnunnar. \nAuglýsing fyrir ráðstefnuna  \n 
URL:https://raforninn.is/event/norraen-radstefna-um-eftirlit-i-heilbrigdis-og-felagsthjonustu/
LOCATION:Harpa\, Heimilisfang:\, Reykjavík\, 101
END:VEVENT
BEGIN:VEVENT
DTSTART;VALUE=DATE:20170925
DTEND;VALUE=DATE:20171017
DTSTAMP:20260423T081706
CREATED:20170925T205606Z
LAST-MODIFIED:20170925T205642Z
UID:795-1506297600-1508198399@raforninn.is
SUMMARY:Geislafræðingur - Akureyri
DESCRIPTION:Geislafræðingur á myndgreiningadeild Sjúkrahússins á Akureyri\nGeislafræðingur \nMyndgreiningadeild Sjúkrahússins á Akureyri óskar eftir geislafræðingi. \nUm er að ræða 100% starfshlutfall í dagvinnu auk bakvaktarskyldu um 2-4 daga í mánuði. \nStaðan veitist frá 1. nóvember 2017 eða skv. samkomulagi. \nMyndgreiningadeildin er einn fjölbreyttasti vinnustaður sinnar tegundar á landinu\, með öflugan rannsóknabúnað. Á deildinni eru m.a. framkvæmdar röntgen-\, tölvusneiðmynda-\, segulóm-\, beinþéttni-\, brjósta- og skyggnirannsóknir. Deildin er mjög vel tækjum búin og góður húsakostur. \nNæsti yfirmaður er Elvar Örn Birgisson\, forstöðugeislafræðingur. \nHelstu verkefni og ábyrgð\nÍ starfinu felst ábyrgð á öllum almennum verkefnum geislafræðinga samkvæmt lögum og reglugerðum. Einnig að unnið sé samkvæmt markmiðum deildarinnar og stofnunarinnar. \nHæfnikröfur\nUmsækjandi skal hafa fullgilt BSc próf í geislafræði. \nLögð er áhersla á frumkvæði\, sjálfstæð vinnubrögð\, jákvæðni og hæfileika í samskiptum og samvinnu. \nFrekari upplýsingar um starfið\nLaun samkvæmt gildandi kjarasamningi sem fjármála- og efnahagsráðherra og Félag geislafræðinga hafa gert.\nUmsóknum skal skilað rafrænt á vef sjúkrahússins www.sak.is \nUmsóknum skulu fylgja ítarlegar upplýsingar um nám og starfsferil ásamt prófskírteinum og starfsleyfi. \nÖllum umsóknum verður svarað þegar ákvörðun um ráðningu hefur verið tekin. \nGildi Sjúkrahússins á Akureyri eru: ÖRYGGI SAMVINNA FRAMSÆKNI. \nVið ráðningar í störf er tekið mið af jafnréttisstefnu sjúkrahússins\, sem er reyklaus vinnustaður. \nSjúkrahúsið á Akureyri hefur hlotið alþjóðlega gæðavottun á starfsemi sinni. \nStarfshlutfall er 100 %\nUmsóknarfrestur er til og með 16.10.2017 \nNánari upplýsingar veitir\nElvar Örn Birgisson- elvar@sak.is – 8955646\nHulda Sigríður Ringsted- huldari@sak.is – 4630100
URL:https://raforninn.is/event/geislafraedingur-akureyri/
END:VEVENT
BEGIN:VEVENT
DTSTART;VALUE=DATE:20170921
DTEND;VALUE=DATE:20171007
DTSTAMP:20260423T081706
CREATED:20170921T192547Z
LAST-MODIFIED:20170921T192617Z
UID:791-1505952000-1507334399@raforninn.is
SUMMARY:Geislafræðingur - Þjónustumiðstöð rannsóknaverkefna
DESCRIPTION:Þjónustumiðstöð rannsóknaverkefna leitar að geislafræðingi til starfa við rannsóknir. \nHelstu verkefni snúa að framkvæmd á klínískum hluta erfðafræðirannsókna s.s. \n\nFramkvæmd beinþéttnimælinga\nHeilsufarsmælingar\nViðtöl og upplýsingagjöf til þátttakanda\n\n Umsóknir skulu berast á netfangið atvinna@rannsokn.is fyrir 9.október 2017.
URL:https://raforninn.is/event/geislafraedingur-thjonustumidstod-rannsoknaverkefna/
LOCATION:Turninn Smáratorg 3\, Smáratorg 3\, Kópavogi\, 201\, Iceland
END:VEVENT
BEGIN:VEVENT
DTSTART;VALUE=DATE:20170907
DTEND;VALUE=DATE:20170908
DTSTAMP:20260423T081706
CREATED:20170817T195902Z
LAST-MODIFIED:20170817T195948Z
UID:686-1504742400-1504828799@raforninn.is
SUMMARY:Málþing: Álag á starfsfólki í heilbrigðisþjónustu
DESCRIPTION:Áhugavert málþing um heilsu og forvarnir\, þar sem streita og álag á starfsfólk heilbrigðisþjónustu er í brennidepli. \nFyrri hluta dags eru í boði vandaðir fyrirlestrar og seinnipartinn geta þátttakendur valið um fjórar áhugaverðar málstofur. \nNánari upplýsingar og skráning eru á vefsíðu Forvarna.
URL:https://raforninn.is/event/malthing-alag-a-starfsfolki-i-heilbrigdisthjonustu/
END:VEVENT
BEGIN:VEVENT
DTSTART;TZID=UTC:20170906T161500
DTEND;TZID=UTC:20170906T180000
DTSTAMP:20260423T081706
CREATED:20170818T154804Z
LAST-MODIFIED:20170818T160807Z
UID:689-1504714500-1504720800@raforninn.is
SUMMARY:Fyrirlestur: Too much medical radiation? ICRP and radiological protection in the medical field
DESCRIPTION:Allir sem tengjast læknisfræðilegri notkun geislunar eru hvattir til að mæta á fyrirlestur sem haldinn er í samvinnu Geislavarna ríkisins\, Námsbrautar í geislafræði við Háskóla Íslands\, Félags íslenskra röntgenlækna og Félags geislafræðinga. \nFyrirlesari er Christopher Clement\, vísindaritari Alþjóða geislavarnaráðsins\, ICRP. \nKastljósinu verður beint að ráðleggingum ICRP um geislavarnir sjúklinga og heilbrigði starfsfólks\, með sérstakri áherslu á réttlætingu notkunar\, leiðbeiningar fyrir heilbrigðisstarfsfólk og upplýsingar fyrir almenning. \nFyrirlesturinn er haldinn miðvikudaginn 6. september í Veröld – Húsi Vigdísar\, stofu VHV-023. \nFyrirlesturinn hefst klukkan 16:45 en frá klukkan 16:15 verða veitingar á staðnum í boði Félags íslenskra röntgenlækna og Félags geislafræðinga.\nForsvarsmenn viðburðarins vonast til að sjá sem flesta sem tengjast læknisfræðilegri notkun geislunar og að fólk noti tækifærið til þess að hittast og spjalla áður en fyrirlesturinn hefst. \nFyrirlesturinn er ókeypis og öllum opinn en til þess að hægt sé að áætla magn veitinga er fólk beðið að skrá þátttöku á vefsíðu Geislavarna ríkisins
URL:https://raforninn.is/event/fyrirlestur-too-much-medical-radiation-icrp-and-radiological-protection-in-the-medical-field/
LOCATION:Veröld – Hús Vigdísar\, Brynjólfsgata 1\, Reykjavík\, 107\, Iceland
END:VEVENT
BEGIN:VEVENT
DTSTART;TZID=UTC:20170830T120000
DTEND;TZID=UTC:20170830T140000
DTSTAMP:20260423T081706
CREATED:20170822T165714Z
LAST-MODIFIED:20170822T165817Z
UID:720-1504094400-1504101600@raforninn.is
SUMMARY:Hádegisfundur: Fagmennska í íslenskum vefbransa
DESCRIPTION:Flest ef ekki öll fyrirtæki og stofnanir eiga sér vefsíðu og einn eða fleiri á staðnum koma að umsjón efnis eða annars á einhvern hátt. Þess vegna á umfjöllunarefni fyrsta hádegisfundar haustsins hjá SKÝ erindi við marga\, enda fundurinn auglýstur fyrir alla sem koma að vefverkefnum á einhvern hátt. \nFundurinn er haldinn miðvikudaginn 30. ágúst 2017\, klukkan 12 – 14\, í Gullteig á Grand Hótel \nÚr kynningartexta fundarins:\n„Þegar lagt er í vinnu við að setja upp vefi eða vefverkefni þurfa yfirleitt margir aðilar að koma að: vefstofur (hönnuðir\, forritarar)\, kerfisdeildir\, auglýsingastofur\, ábyrgðaraðilar innan fyrirtækja/stofnana\, samráðshópar\, hagsmunaaðilar\, stjórnendur\, og svo framvegis.\nHversu mikil fagmennska er í íslenska vefgeiranum? Hvernig gengur verkefnastjórum að fá alla aðila til að vinna að sameiginlegu markmiði? Hvað þurfa fyrirtæki og stofnanir að gera til að vefur hámarki þjónustu\, upplýsingagjöf\, sölu eða virði vörumerkis?“ \nNánari upplýsingar og skráning á vefsíðu SKÝ. \n 
URL:https://raforninn.is/event/hadegisfundur-fagmennska-i-islenskum-vefbransa/
LOCATION:Grand Hótel\, Sigtún 38\, Reykjavík\, 105\, Iceland
END:VEVENT
BEGIN:VEVENT
DTSTART;VALUE=DATE:20170828
DTEND;VALUE=DATE:20171104
DTSTAMP:20260423T081706
CREATED:20170828T193656Z
LAST-MODIFIED:20170828T193656Z
UID:732-1503878400-1509753599@raforninn.is
SUMMARY:Námskeiðstilboð EHÍ til geislafræðinga
DESCRIPTION:Nokkur námskeið hjá Endurmenntun HÍ eru á sértilboði til félagsmanna í Félagi geislafræðinga haustið 2017. Gefinn er 15% afsláttur af námskeiðsverði en félagsmenn þurfa að muna að skrá í athugasemdareit við skráningu að þeir séu í félaginu. \nSjá auglýsingu…  \n.
URL:https://raforninn.is/event/namskeidstilbod-ehi-til-geislafraedinga/
END:VEVENT
BEGIN:VEVENT
DTSTART;VALUE=DATE:20170825
DTEND;VALUE=DATE:20170912
DTSTAMP:20260423T081706
CREATED:20170825T151913Z
LAST-MODIFIED:20170825T151913Z
UID:728-1503619200-1505174399@raforninn.is
SUMMARY:Geislafræðingur - Sjúkrahúsið á Akureyri
DESCRIPTION:Myndgreiningardeild Sjúkrahússins á Akureyri óskar eftir geislafræðingi.\nUm er að ræða 100% starfshlutfall í dagvinnu auk bakvaktarskyldu um 2-4 daga í mánuði.\nStaðan veitist frá 1. október 2017 eða skv. samkomulagi. \nMyndgreiningardeildin er einn fjölbreyttasti vinnustaður sinnar tegundar á landinu\, með öflugan rannsóknabúnað. Á deildinni eru m.a. framkvæmdar röntgen-\, tölvusneiðmynda-\, segulóm-\, beinþéttni-\, brjósta- og skyggnirannsóknir. Deildin er mjög vel tækjum búin og góður húsakostur.\nNæsti yfirmaður er Elvar Örn Birgisson\, forstöðugeislafræðingur. \nLögð er áhersla á frumkvæði\, sjálfstæð vinnubrögð\, jákvæðni og hæfileika í samskiptum og samvinnu. \nNánari upplýsingar eru á Starfatorgi…
URL:https://raforninn.is/event/geislafraedingur-sjukrahusid-a-akureyri/
LOCATION:SAk\, Sjúkrahúsið á Akureyri\, Akureyri\, 600\, Iceland
END:VEVENT
BEGIN:VEVENT
DTSTART;VALUE=DATE:20170809
DTEND;VALUE=DATE:20170818
DTSTAMP:20260423T081706
CREATED:20170607T200255Z
LAST-MODIFIED:20170607T200335Z
UID:587-1502236800-1503014399@raforninn.is
SUMMARY:Námskeið: Akademísk vinnubrögð
DESCRIPTION:Til dæmis fyrir myndgreiningarfólk sem ætlar að drífa sig í meira nám… master\, doktor o.s.fr. \nÚr kynningartexta námskeiðsins: \n„Á námskeiðinu er fjallað um: \n• Uppbyggingu og frágang ritgerða\, framsöguerinda og rannsóknarverkefna.\n• Málfar og stíl.\n• APA kerfið við heimildanotkun og tilvísanir og glósu- og námstækni.\n• Flutning talaðs máls.\n• Gagnrýna hugsun og rökvísa framsetningu. \nFyrir hverja: \nNámskeiðið er ætlað fólki sem er að hefja háskólanám eða taka upp þráðinn eftir námshlé.“ \nNánari upplýsingar og skráning á vefsíðu EHÍ \n 
URL:https://raforninn.is/event/namskeid-akademisk-vinnubrogd/
END:VEVENT
BEGIN:VEVENT
DTSTART;VALUE=DATE:20170804
DTEND;VALUE=DATE:20170828
DTSTAMP:20260423T081706
CREATED:20170804T154450Z
LAST-MODIFIED:20170821T181936Z
UID:668-1501804800-1503878399@raforninn.is
SUMMARY:Geislafræðingur - Geislavarnir ríkisins
DESCRIPTION:Geislavarnir ríkisins óska eftir að ráða geislafræðing til starfa við stofnunina. Starfið felur einkum í sér verkefni vegna læknisfræðilegrar notkunar jónandi geislunar svo sem vinnu við\n– Leyfisveitingar og eftirlit\n– Gæðamál\n– Fræðslu og leiðbeiningar\n– Mat á geislaálagi sjúklinga \nNánari upplýsingar á Starfatorgi.
URL:https://raforninn.is/event/geislafraedingur-geislavarnir-rikisins/
END:VEVENT
BEGIN:VEVENT
DTSTART;VALUE=DATE:20170629
DTEND;VALUE=DATE:20170702
DTSTAMP:20260423T081706
CREATED:20170509T202830Z
LAST-MODIFIED:20170629T033537Z
UID:462-1498694400-1498953599@raforninn.is
SUMMARY:Nordic Congress í Reykjavík
DESCRIPTION:Norræn ráðstefna myndgreiningarfólks\, Nordic Congress of Radiology and Radiography\, verður að þessu sinni haldin á Íslandi\, nánar tiltekið í Hörpu í Reykjavík. \nRáðstefnan er í umsjóna Félags íslenskra röntgenlækna og Félags geislafræðinga og dagskráin er bæði fjölbreytt og metnaðarfull. Margir góðir fyrirlesarar stíga á stokk\, með áhugaverð erindi og hægt er að taka þátt í margskonar fróðlegum viðburðum.\nÍslenskt myndgreiningarfólk er eindregið hvatt til að taka þátt og til að vekja athygli kollega erlendis á ráðstefnunni. \nNánari upplýsingar og skráning er á vefsíðu ráðstefnunnar. \nTexti um viðburð
URL:https://raforninn.is/event/vidburdur-nr-2/
LOCATION:Harpa\, Heimilisfang:\, Reykjavík\, 101
END:VEVENT
BEGIN:VEVENT
DTSTART;VALUE=DATE:20170628
DTEND;VALUE=DATE:20170711
DTSTAMP:20260423T081706
CREATED:20170629T033257Z
LAST-MODIFIED:20170629T033257Z
UID:610-1498608000-1499731199@raforninn.is
SUMMARY:Geislafræðingar og aðstoðardeildarstjóri - LSH
DESCRIPTION:Nú eru áhugaverð störf í boði á myndgreiningardeildum Landspítala. Bæði er auglýst eftir almennum geislafræðingum og einnig aðstoðardeildarstjóra. \nFyrir almenna geislafræðinga er í boði starfshlutfall allt að 100% og um er að ræða vaktavinnu. Bæði er leitað eftir starfsfólki til framtíðar sem og tímabundin störf.\nUmsóknarfrestur er til og með 10.07.2017\nNánari upplýsingar er að finna á Starfatorgi. \nEinnig er laust er til umsóknar fullt starf aðstoðardeildarstjóra\, tímabundið til 2ja ára. Auglýst er eftir áhugasömum leiðtoga sem er tilbúinn að takast á við krefjandi verkefni á deild sem er í stöðugri þróun og sinnir læknisfræðilegri myndgreiningu og geislavörnum.\nUmsóknarfrestur er til og með 10.07.2017\nNánari upplýsingar er að finna á Starfatorgi.
URL:https://raforninn.is/event/geislafraedingar-og-adstodardeildarstjori-lsh/
END:VEVENT
BEGIN:VEVENT
DTSTART;VALUE=DATE:20170515
DTEND;VALUE=DATE:20170701
DTSTAMP:20260423T081706
CREATED:20170509T202624Z
LAST-MODIFIED:20170515T231326Z
UID:458-1494806400-1498867199@raforninn.is
SUMMARY:Geislafræðingur - Vestmannaeyjar afleysing
DESCRIPTION:Geislafræðingur óskast til afleysinga á Heilbrigðisstofnun Suðurlands – Vestmannaeyjum sumarið 2017 \nHelstu verkefni og ábyrgð: \nStarfið felst í almennum röntgenrannsóknum og tölvusneiðmyndatökum \nHæfnikröfur: \nÍslenskt starfsleyfi sem geislafræðingur\nBS. próf í geislafræði skilyrði\nGóðir samskiptahæfileikar og jákvæðni\nFaglegur metnaður og ábyrgð í starfi\nGóð reynsla og hæfileiki til að vinna í teymi \nFrekari upplýsingar um starfið: \nLaun samkvæmt gildandi kjarasamningi sem fjármálaráðherra og Félag geislafræðinga hafa gert.\nStarfshlutfall er samkomulagsatriði. Til greina kemur að fleiri en einn skipti með sér afleysingunni. \nUm er að ræða dagvinnu frá 08:00-16:00\, auk þess er geislafræðingur á bakvakt alla virka daga frá kl 16:00-24:00 og 08:00-24:00 um helgar\, viku í senn. \nUmsókn skal skilað rafrænt á vef HSU – www.hsu.is undir flipanum laus störf. \nUmsókninni þurfa að fylgja staðfestar upplýsingar um menntun\, starfsleyfi\, fyrri störf. \nStarfshlutfall er 75 – 100 %\nUmsóknarfrestur er til og með 20.02.2017 \nÁhugasamir hafi samband við Aðalbjörgu Skarphéðinsdóttur\, yfirgeislafræðing í síma 432-2500\, netfang: adalbjorg.skarphedinsdottir@hsu.is \nNánari upplýsingar veitir \nSigurður Hjörtur Kristjánsson- hjortur.kristjansson@hsu.is – 4322000 \nHSU Ve Myndgreining\nSólhlíð 10\n900 Vestmannaeyjar
URL:https://raforninn.is/event/vidburdur-1/
END:VEVENT
END:VCALENDAR