BEGIN:VCALENDAR
VERSION:2.0
PRODID:-//Raförninn ehf - ECPv6.15.11//NONSGML v1.0//EN
CALSCALE:GREGORIAN
METHOD:PUBLISH
X-WR-CALNAME:Raförninn ehf
X-ORIGINAL-URL:https://raforninn.is
X-WR-CALDESC:Events for Raförninn ehf
REFRESH-INTERVAL;VALUE=DURATION:PT1H
X-Robots-Tag:noindex
X-PUBLISHED-TTL:PT1H
BEGIN:VTIMEZONE
TZID:UTC
BEGIN:STANDARD
TZOFFSETFROM:+0000
TZOFFSETTO:+0000
TZNAME:UTC
DTSTART:20170101T000000
END:STANDARD
END:VTIMEZONE
BEGIN:VEVENT
DTSTART;VALUE=DATE:20200403
DTEND;VALUE=DATE:20200601
DTSTAMP:20260423T042240
CREATED:20200403T223930Z
LAST-MODIFIED:20200403T223930Z
UID:1895-1585872000-1590969599@raforninn.is
SUMMARY:ESR Connect - Fríir fjar-fyrirlestrar
DESCRIPTION:European Society of Radiology býður upp á fría fjar-fyrirlestra\, oft með möguleikum á að fá svör við spurningum í rauntíma. \nNánari upplýsingar og skráning er á vefsíðu ESR Connect.
URL:https://raforninn.is/event/esr-connect-friir-fjar-fyrirlestrar/
END:VEVENT
BEGIN:VEVENT
DTSTART;TZID=UTC:20200402T130000
DTEND;TZID=UTC:20200402T160000
DTSTAMP:20260423T042240
CREATED:20200324T195420Z
LAST-MODIFIED:20200324T195420Z
UID:1880-1585832400-1585843200@raforninn.is
SUMMARY:Starfsmennt - Tölvupóstar og stuttir textar (fjarnámskeið)
DESCRIPTION:Þessar vikurnar fara samskipti minna fram augliti til auglitis og tölvupóstar og önnur skrifuð skilaboð hafa aukist. Þá er gott að hafa góða þekkingu á að nota svoleiðis texta 🙂 \nFimmtudaginn 2. apríl 2020 bjóða Starfsmennt og Endurmenntun HÍ upp á vefnámskeið. Það er frítt fyrir félagsmenn Starfsmenntar en aðrir þurfa að greiða sanngjarnt námskeiðsgjald. \nNánari upplýsingar og skráning á vefsíðu Starfsmenntar.
URL:https://raforninn.is/event/starfsmennt-tolvupostar-og-stuttir-textar-fjarnamskeid/
END:VEVENT
BEGIN:VEVENT
DTSTART;TZID=UTC:20200331T180000
DTEND;TZID=UTC:20200602T180000
DTSTAMP:20260423T042240
CREATED:20200327T163548Z
LAST-MODIFIED:20200422T235943Z
UID:1886-1585677600-1591120800@raforninn.is
SUMMARY:EFSR - CT gæði og öryggi (frítt fjarnámskeið)
DESCRIPTION:Tölvusneiðmyndun leikur stórt hlutverk við greiningu Covid-19 og nú býður EFSR\, Evrópusamtök félaga geislafræðinga\, upp á ókeypis og mjög álitlegt fjarnámskeið þar sem farið er vandlega í ýmis atriði tengd geislavörnum\, framkvæmd rannsókna og öryggi sjúklinga í CT. \nNámskeiðið er fimm skipti og tekur yfir dagana 31. mars – 2. júní 2020. Tímasetningin er kl. 20:00 Central European Time\, sem á þessum árstíma er orðinn 2 klst á undan íslenskum tíma. \nÞað er nauðsynlegt að skrá sig á námskeiðið\, þó ekki þurfi að borga fyrir það\, og skráning er hjá EFSR… \nLítið endilega á þessa spennandi dagskrá námskeiðsins
URL:https://raforninn.is/event/efsr-ct-gaedi-og-oryggi-fritt-fjarnamskeid/
END:VEVENT
BEGIN:VEVENT
DTSTART;TZID=UTC:20200325T160000
DTEND;TZID=UTC:20200325T170000
DTSTAMP:20260423T042240
CREATED:20200324T184911Z
LAST-MODIFIED:20200330T232529Z
UID:1878-1585152000-1585155600@raforninn.is
SUMMARY:ESR - Myndgreining og Covid-19 á Ítalíu (ókeypis viðburður á vefnum)
DESCRIPTION:Miðvikudaginn 25. mars býður European Society of Radiology upp á fría umfjöllun um mikilvægi myndgreiningar í baráttu Ítala við Covid-19 faraldurinn. Meðal annars verður rætt við prófessor Nicola Sverzellati\, frá háskólanum í Parma\, sem segir frá helstu áskorunum sem ítalskt myndgreiningarfólk stendur frammi fyrir og viðbrögðum við þeim. \nGætið að því að tímasetningin er Central European Time\, sem á þessum árstíma þýðir að fyrirlesturinn byrjar kl. 16 að íslenskum tíma. \nEins og fyrr segir er viðburðurinn ókeypis en það þarf að skrá sig hér…
URL:https://raforninn.is/event/esr-myndgreining-og-covid-19-a-italiu/
END:VEVENT
BEGIN:VEVENT
DTSTART;VALUE=DATE:20200320
DTEND;VALUE=DATE:20200419
DTSTAMP:20260423T042240
CREATED:20200327T165946Z
LAST-MODIFIED:20200327T165946Z
UID:1891-1584662400-1587254399@raforninn.is
SUMMARY:ESR - Education on Demand\, frír aðgangur til 17. apríl
DESCRIPTION:Í fjórar vikur býður ESR\, Evrópusamtök myndgreiningarfólks\, ókeypis aðgang að öllum vefnámskeiðum\, fjarnámskeiðum\, veffyrirlestrum… í stuttu máli öllu fræðsluefni samtakanna sem aðgengilegt er á vef. \nÞetta er frábært tækifæri fyrir myndgreiningarfólk til að nýta sér mikið magn af sérlega vönduðu efni\, bæði venjulegu námsefni og efni sem er sérstaklega gert til að nýtast sem best á tímum Covid-19. \nAðgangur er á vefsíðu ESR – Education on Demand.
URL:https://raforninn.is/event/esr-education-on-demand-frir-adgangur-til-17-april/
END:VEVENT
BEGIN:VEVENT
DTSTART;VALUE=DATE:20200311
DTEND;VALUE=DATE:20200316
DTSTAMP:20260423T042240
CREATED:20200213T201543Z
LAST-MODIFIED:20200213T201543Z
UID:1856-1583884800-1584316799@raforninn.is
SUMMARY:ECR 2020
DESCRIPTION:Stærsti viðburður myndgreiningarfólks í Evrópu ár hvert! European Congress of Radiology verður reyndar alþjóðlegri með hverju árinu og þar er alltaf feiknarlega margt skemmtilegt og fróðlegt að sjá og heyra. \nÁrið 2020 er ECR haldin dagana 11. – 15. mars og að sjálfsögðu í Vínarborg eins og ævinlega. \nAllar upplýsingar og skráning er á vefsíðu ráðstefnunnar.
URL:https://raforninn.is/event/ecr-2020/
LOCATION:Austria Center Vienna\, Bruno-Kreisky-Platz 1\, Wien\, 1220\, Austria
END:VEVENT
BEGIN:VEVENT
DTSTART;TZID=UTC:20200305T090000
DTEND;TZID=UTC:20200305T120000
DTSTAMP:20260423T042240
CREATED:20191217T220050Z
LAST-MODIFIED:20200102T213321Z
UID:1777-1583398800-1583409600@raforninn.is
SUMMARY:Starfsmennt - Þrautseigja í lífi og starfi
DESCRIPTION:Úr kynningartexta námskeiðsins: „Örar breytingar eru hluti af nútíma vinnuumhverfi og að geta aðlagast breytingum og tileinkað sér þrautseigju er talinn vera einn af lykilfærniþáttum í atvinnulífinu. Hugtakið þrautseigja er notað til að skilgreina þá hæfni sem einstaklingur beitir þegar hann mætir mótlæti í lífinu. Þrautseigja einkennist af styrk\, staðfestu og úthaldi til að takast á við áskoranir og krefjandi breytinga Fjallað verður um hvernig við túlkum og bregðumst við því sem hendir okkur og hvernig þjálfa má og efla þrautseigju með því að hafa áhrif á þessa þætti. “ \nNánari upplýsingar og skráning\, á vefsíðu Starfsmenntar
URL:https://raforninn.is/event/starfsmennt-thrautsegja-i-lifi-og-starfi/
LOCATION:Starfsmennt\, Skipholt 50b\, Reykjavik\, 105\, Iceland
END:VEVENT
BEGIN:VEVENT
DTSTART;TZID=UTC:20200218T130000
DTEND;TZID=UTC:20200218T170000
DTSTAMP:20260423T042240
CREATED:20200213T200548Z
LAST-MODIFIED:20200213T200548Z
UID:1854-1582030800-1582045200@raforninn.is
SUMMARY:Endurmenntun HÍ - Verkefnastjórnun
DESCRIPTION:Heilbrigðisstarfsfólk þarf oft að stjórna stórum sem smáum verkefnum\, þannig að grunnþekking á verkefnastjórnun getur alltaf komið sér vel.\nÞriðjudaginn 18. febrúar 2020 býður Endurmenntun HÍ upp á námskeiðið Verkefnastjórnun – fyrstu skrefin. \nÁ námskeiðinu er farið í grunninn á verkefnastjórnun sem og hvað verkefnastjórnun er og hvar hún getur nýst. Áhersla er á undirbúning og eftirfylgni verkefna til að tryggja árangur. Námskeiðið veitir heildarsýn á uppbyggingu verkefna og hvernig hægt er að beita verkefnastjórnun á lítil sem stór verkefni. \nNánari upplýsingar og skráning er á vefsíðu EHÍ.
URL:https://raforninn.is/event/endurmenntun-hi-verkefnastjornun/
LOCATION:Endurmenntun HÍ\, Dunhagi 7\, Reykjavik\, Iceland
END:VEVENT
BEGIN:VEVENT
DTSTART;TZID=UTC:20200205T090000
DTEND;TZID=UTC:20200205T120000
DTSTAMP:20260423T042240
CREATED:20191217T215531Z
LAST-MODIFIED:20191217T215602Z
UID:1774-1580893200-1580904000@raforninn.is
SUMMARY:Starfsmennt - Gerðu ráð fyrir breytingum
DESCRIPTION:Úr kynningartexta námskeiðsins: „Örar breytingar eru hluti af nútíma vinnuumhverfi og skiptir miklu máli að geta tekist á við þær. Námskeiðið er ætlað þeim sem standa frammi fyrir breytingum\, eru í breytingaferli eða eru að takast á við eftirmála breytinga. Unnið er með þætti eins og viðmót og eigin túlkun. Tækifæri geta falist í breytingum og getur jákvætt viðhorf gagnvart þeim falið í sér nýja og spennandi möguleika.“ \nNánari upplýsingar og skráning\, á vefsíðu Starfsmenntar
URL:https://raforninn.is/event/starfsmennt-gerdu-rad-fyrir-breytingum/
LOCATION:Starfsmennt\, Skipholt 50b\, Reykjavik\, 105\, Iceland
END:VEVENT
BEGIN:VEVENT
DTSTART;VALUE=DATE:20200203
DTEND;VALUE=DATE:20200209
DTSTAMP:20260423T042240
CREATED:20200108T161437Z
LAST-MODIFIED:20200108T161437Z
UID:1801-1580688000-1581206399@raforninn.is
SUMMARY:UT messu vikan
DESCRIPTION:UT messan er löngu orðin þekktur viðburður fyrir alla sem hafa áhuga á tölvu- og tæknigreinum. Það er SKÝ sem stendur fyrir UT messuni\, með það fyrir augum að sýna hve stór og fjölbreyttur tölvugeirinn á Íslandi er og fjölga þeim sem velja sér tölvu- og tæknigreinar sem framtíðarstarfsvettvang. \nUT messu vikan stendur frá 3. – 6. febrúar 2020 og eru þá opin hús hjá mörgum skólum og fyrirtækjum sem tengjast UT messunni. Föstudagurinn 7. febrúar er ráðstefnudagur í Hörpu fyrir fagfólk og aðra áhugamenn um upplýsingatækni og laugardaginn 8. febrúar er stórsýning og skemmtun í Hörpu fyrir almenning\, jafnt unga sem aldna og alla þar á milli! \nNánari upplýsingar eru á vefsíðu UT messunnar.
URL:https://raforninn.is/event/ut-messu-vikan/
LOCATION:Harpa Conference Center\, Austurbakka 2\, Reykjavík\, 101\, Iceland
END:VEVENT
BEGIN:VEVENT
DTSTART;VALUE=DATE:20200120
DTEND;VALUE=DATE:20200125
DTSTAMP:20260423T042240
CREATED:20191121T163435Z
LAST-MODIFIED:20200108T163605Z
UID:1637-1579478400-1579910399@raforninn.is
SUMMARY:Læknadagar 2020
DESCRIPTION:Læknadagar 2020 verða haldnir í Hörpu 20.-24. janúar 2020.\nAllir heilbrigðisstarfsmenn eru velkomnir á Læknadaga og hægt er að kaupa aðgang að dagskrá í Hörpu þegar ráðstefna hefst. Skráningarborðið og miðasala er opið alla dagana á meðan á ráðstefnu stendur. \nNánari upplýsingar eru á Facebook síðu Læknadaga \n…og dagskrána er að finna í Læknablaðinu
URL:https://raforninn.is/event/laeknadagar-2020/
LOCATION:Harpa Conference Center\, Austurbakka 2\, Reykjavík\, 101\, Iceland
END:VEVENT
BEGIN:VEVENT
DTSTART;TZID=UTC:20200107T170000
DTEND;TZID=UTC:20200107T190000
DTSTAMP:20260423T042240
CREATED:20200107T185432Z
LAST-MODIFIED:20200107T192337Z
UID:1790-1578416400-1578423600@raforninn.is
SUMMARY:FRESTAÐ - Nýárshittingur FG
DESCRIPTION:  \nNýárshittingnum hefur verið frestað enn um sinn. FG sendir nánari upplýsingar síðar. 
URL:https://raforninn.is/event/nyarshittingur-fg/
LOCATION:Borgartún 6\, Borgartún 6\, Reykjavík\, 105\, Iceland
END:VEVENT
BEGIN:VEVENT
DTSTART;TZID=UTC:20191203T083000
DTEND;TZID=UTC:20191203T094000
DTSTAMP:20260423T042240
CREATED:20191118T192837Z
LAST-MODIFIED:20191118T192944Z
UID:1635-1575361800-1575366000@raforninn.is
SUMMARY:Stjórnvísi - Ómeðvituð hlutdrægni
DESCRIPTION:Við höfum öll einhverja fordóma\, jafnvel þótt við vitum ekki af því. Það er mjög upplýsandi að skoða sjálfan sig markvisst og koma auga á hlutdrægni sem maður gerði sér ekki grein fyrir áður. Þannig gefst líka færi á að taka á þessari hlutdrægni\, þannig að hún hafi síður áhrif á hegðun manns. \nStjórnvísi býður upp á stuttan morgunfund\, þriðjudaginn 3. desember nk.\, þar sem kynntar eru aðferðir til að koma auga á eigin fordóma og vinna gegn hlutdrægni af þeirra völdum. \nNánari upplýsingar og skráning eru á vefsíðu Stjórnvísi.
URL:https://raforninn.is/event/stjornvisi-omedvitud-hlutdraegni/
LOCATION:Háskólinn í Reykjavík\, Menntavegur 1\, Reykjavík\, 101\, Iceland
END:VEVENT
BEGIN:VEVENT
DTSTART;VALUE=DATE:20191201
DTEND;VALUE=DATE:20191207
DTSTAMP:20260423T042240
CREATED:20190828T160724Z
LAST-MODIFIED:20191101T165825Z
UID:1550-1575158400-1575676799@raforninn.is
SUMMARY:RSNA 2019
DESCRIPTION:Stóra\, vandaða\, gagnlega og skemmtilega ráðstefnan sem myndgreiningarfólk kannast við 🙂 Árleg ráðstefna Radiological Society of North America\, alltaf haldin í Chicago og þetta árið stendur hún yfir 1. – 6. desember. \nRSNA listi Arnartíðinda er hér… \nNánari upplýsingar og skráning er á vefsíðu ráðstefnunnar.
URL:https://raforninn.is/event/rsna-2019/
LOCATION:McCormick Place\, Chicago\, McCormick Place\, Chicago\, IL\, United States
END:VEVENT
BEGIN:VEVENT
DTSTART;TZID=UTC:20191107T160000
DTEND;TZID=UTC:20191107T170000
DTSTAMP:20260423T042240
CREATED:20191104T195418Z
LAST-MODIFIED:20191104T195556Z
UID:1626-1573142400-1573146000@raforninn.is
SUMMARY:LSH - Málþing um krabbameinslækningar og geislameðferð
DESCRIPTION:Geislameðferð krabbameina í 100 ár. Virkilega spennandi málþing fyrir allt myndgreiningarfólk! Aðgangur er ókeypis en það þarf að skrá sig. \nNánari upplýsingar og skráning á vefsíðu LSH.
URL:https://raforninn.is/event/malthing-a-lsh-um-krabbameinslaekningar-og-geislamedferd/
END:VEVENT
BEGIN:VEVENT
DTSTART;VALUE=DATE:20191106
DTEND;VALUE=DATE:20191108
DTSTAMP:20260423T042240
CREATED:20191009T171130Z
LAST-MODIFIED:20191009T171601Z
UID:1600-1572998400-1573171199@raforninn.is
SUMMARY:Harvard Medical - Quality and Safety (in radiology)
DESCRIPTION:Ráðstefna um gæði og öryggi í heilbrigðisþjónustu\, með áherslu á læknisfræðilega myndgreiningu. \nHljómar kunnuglega? Virðist vera sama þema og á Gæðavísisráðstefnunum sem Raförninn hélt yfir 10 ára tímabil. Virkilega spennandi… \nNánari upplýsingar og skráning eru á vefsíðu Harvard Medical School \nDagskráin fyrir myndgreiningu er þar líka.
URL:https://raforninn.is/event/harvard-medical-quality-and-safety-in-radiology/
LOCATION:WYNDHAM BOSTON BEACON HILL\, 5 Blossom Street\, Boston\, MA\, MA 02114\, United States
END:VEVENT
BEGIN:VEVENT
DTSTART;TZID=UTC:20191030T130000
DTEND;TZID=UTC:20191030T160000
DTSTAMP:20260423T042240
CREATED:20190828T191600Z
LAST-MODIFIED:20191009T172532Z
UID:1560-1572440400-1572451200@raforninn.is
SUMMARY:EHÍ - Tölvupóstar og stuttir textar
DESCRIPTION:Skrifaður texti gegnir stóru hlutverki\, bæði í vinnu og einkalífi. Það getur skipt höfuðmáli að textinn sé skiljanlegur og settur þannig fram að fólk taki mark á honum. \nÚr kynningartexta námskeiðsins: „Farið verður í nokkur helstu einkenni texta sem samdir eru á íslensku og þátttakendur þjálfaðir í að semja stutta texta\, t.d. tölvupósta\, efni á innri vefi\, heimasíður og fréttabréf.“ \nNánari upplýsingar og skráning er hjá Endurmenntun HÍ.
URL:https://raforninn.is/event/tolvupostar-og-stuttir-textar-ehi/
LOCATION:Endurmenntun HÍ\, Dunhagi 7\, Reykjavik\, Iceland
END:VEVENT
BEGIN:VEVENT
DTSTART;VALUE=DATE:20191029
DTEND;VALUE=DATE:20191127
DTSTAMP:20260423T042240
CREATED:20191009T172450Z
LAST-MODIFIED:20191009T172739Z
UID:1605-1572307200-1574812799@raforninn.is
SUMMARY:EHÍ - Jákvæð sálfræði og styrkleikaþjálfun
DESCRIPTION:Námskeið hjá Endurmenntun HÍ. \nÚr kynningartexta námskeiðsins: „Jákvæð sálfræði fæst við rannsóknir á því sem fólk gerir rétt frekar en því sem fólk gerir rangt. farið yfir rannsóknir á styrkleikum\, bjartsýni og hamingju og fjallað um gildi jákvæðni fyrir sköpun og árangur. Einnig verður farið í kosti styrkleikaþjálfunar og hvernig hægt er að nýta sér verkfæri úr styrkleikaþjálfun í daglegu lífi.“ \nNánari upplýsingar og skráning er á vefsíðu EHÍ.
URL:https://raforninn.is/event/ehi-jakvaed-salfraedi-og-styrkleikathjalfun/
LOCATION:Endurmenntun HÍ\, Dunhagi 7\, Reykjavik\, Iceland
END:VEVENT
BEGIN:VEVENT
DTSTART;TZID=UTC:20191025T170000
DTEND;TZID=UTC:20191025T170000
DTSTAMP:20260423T042240
CREATED:20191008T182635Z
LAST-MODIFIED:20191008T182844Z
UID:1598-1572022800-1572022800@raforninn.is
SUMMARY:Raförninn - Opið hús!!
DESCRIPTION:Það verður opið hús hjá Raferninum föstudaginn 25. október næstkomandi! \nMyndgreiningarfólk og aðrir sem tengjast starfsemi fyrirtækisins á einhvern hátt eru velkomin í heimsókn að Suðurhlíð 35 í Reykjavík\, hvort sem um er að ræða núverandi\, fyrrverandi eða tilvonandi viðskiptavini og samstarfsfólk 🙂 \nRaförninn á 35 ára afmæli á árinu og við vonum að sem flestir geti komið og glaðst með okkur. Léttar veitingar verða í boði\, eitthvað verður sér til gamans gert og félagsskapurinn að sjálfsögðu frábær! \nHúsið opnar kl. 17 og við hlökkum til að sjá ykkur. Nánari upplýsingar er hægt að finna á Facebook. \nMeð bestu kveðjum frá starfsfólki Rafarnarins.
URL:https://raforninn.is/event/raforninn-opid-hus-2/
LOCATION:Raförninn\, Suðurhlíð 35\, Suðurhlíð 35\, Reykjavík\, 105
END:VEVENT
BEGIN:VEVENT
DTSTART;TZID=UTC:20190919T083000
DTEND;TZID=UTC:20190919T123000
DTSTAMP:20260423T042240
CREATED:20190828T190505Z
LAST-MODIFIED:20190828T190505Z
UID:1556-1568881800-1568896200@raforninn.is
SUMMARY:Verkefnastjórnun - EHÍ
DESCRIPTION:Á öllum vinnustöðum eru ákveðin verkefni í gangi og þau geta þarfnast skipulagðrar stjórnunar.\nÚr kynnigartexta námskeiðsins: „…farið  er farið í grunninn á verkefnastjórnun sem og hvað verkefnastjórnun er og hvar hún getur nýst. Áhersla er á undirbúning og eftirfylgni verkefna til að tryggja árangur.“ \nNánari upplýsingar og skráninga hjá Endurmenntun Háskóla Íslands.
URL:https://raforninn.is/event/verkefnastjornun-ehi/
LOCATION:Endurmenntun HÍ\, Dunhagi 7\, Reykjavik\, Iceland
END:VEVENT
BEGIN:VEVENT
DTSTART;VALUE=DATE:20190906
DTEND;VALUE=DATE:20190907
DTSTAMP:20260423T042240
CREATED:20190828T164820Z
LAST-MODIFIED:20190829T152708Z
UID:1553-1567728000-1567814399@raforninn.is
SUMMARY:Hlutanetið (Internet of Things) – Ráðstefna Staðlaráðs og HR
DESCRIPTION:Allir hlutir verða að lokum tengdir við Netið. Hægt verður að hafa eftirlit með öllum hlutum og fjarstýra breytingum á þeim. Hlutirnir munu mynda samofna heild og raunheimar verða eitt risastórt upplýsingakerfi. Meginþátturinn í þessari heild verður Hlutanetið\, (Internet of Things\, IoT). \nÞann 6. september verður ráðstefna um þessa spennandi hluti haldin í húsnæði Háskólans í Reykjavík. Meðal umfjöllunarefna verða innviðir\, öryggi og staðlar tengt Internet of Things. \nNánari upplýsingar og skráning er hjá Staðlaráði Íslands
URL:https://raforninn.is/event/hlutanetid-internet-of-things-radstefna-stadlarads-og-hr/
LOCATION:Háskólinn í Reykjavík\, Menntavegur 1\, Reykjavík\, 101\, Iceland
END:VEVENT
BEGIN:VEVENT
DTSTART;VALUE=DATE:20190522
DTEND;VALUE=DATE:20190525
DTSTAMP:20260423T042240
CREATED:20181115T205127Z
LAST-MODIFIED:20181115T205438Z
UID:1310-1558483200-1558742399@raforninn.is
SUMMARY:Norræna ráðstefnan - NCR 2019
DESCRIPTION:Það muna allir hvað norræn ráðstefna myndgreiningarfólks tókst frábærlega í Reykjavík 2017! Nú bjóða frændur okkar Danir heim til Kaupmannahafnar í maí 2019. \nFull ástæða til að kynna sér það sem er á http://www.ncr2019.dk/
URL:https://raforninn.is/event/norraena-radstefnan-ncr-2019/
LOCATION:Radisson Blu Scandinavia Hotel\, Amager Boulevard 70\, Copenhagen\, DK-2300\, Danmark
END:VEVENT
BEGIN:VEVENT
DTSTART;TZID=UTC:20190430T170000
DTEND;TZID=UTC:20190430T190000
DTSTAMP:20260423T042240
CREATED:20190408T154523Z
LAST-MODIFIED:20190416T182149Z
UID:1434-1556643600-1556650800@raforninn.is
SUMMARY:Aðalfundur Félags geislafræðinga - Breyting!!
DESCRIPTION:Aðalfundur Félags geislafræðinga\nverður haldinn\nþriðjudaginn 30. apríl 2019 kl. 17.00\nað Borgartúni 6—Reykjavík \nNú erum við í fundarsal á 4. Hæð \nDagskrá: \n\nSkýrsla stjórnar.\nEndurskoðaðir reikningar félagsins kynntir og bornir undir fundinn.\nLagabreytingar.\nFjárhagsáætlun stjórnar kynnt ásamt ákvörðun um félagsgjöld.\nKosning stjórnar\, varamanna og skoðunarmanna reikninga.\nKosning í lögboðnar nefndir félagsins.\nÖnnur mál.\n\nFélag geislafræðinga\nBorgartúni 6 – 105 Reykjavík\n595 5186\ngeislar@bhm.is  – www.sigl.is
URL:https://raforninn.is/event/adalfundur-felags-geislafraedinga-2/
LOCATION:Borgartún 6\, Borgartún 6\, Reykjavík\, 105\, Iceland
END:VEVENT
BEGIN:VEVENT
DTSTART;VALUE=DATE:20190306
DTEND;VALUE=DATE:20190315
DTSTAMP:20260423T042240
CREATED:20190306T205317Z
LAST-MODIFIED:20190306T205317Z
UID:1417-1551830400-1552607999@raforninn.is
SUMMARY:Vefnámskeið um betri þjónustu
DESCRIPTION:Fræðslusetrið Starfsmennt býður upp á góð vefnámskeið sem fólk getur tekið hvar og hvenær sem er. Í mars 2019 opnast fjögur áhugaverð námskeið sem snúa að móttöku viðskiptavina og samskiptum í síma og með tölvupósti. \n20 góð ráð í þjónustusímsvörun  \n8 lyklar að árangursríkum tölvupóstsamskiptum \nÞjóðerni og þjónusta – Góð ráð í samskiptum við erlenda gesti \nService Quality\, Hospitality and Cultural Differences \nNánari upplýsingar og skráning er hjá Starfsmennt.
URL:https://raforninn.is/event/vefnamskeid-um-betri-thjonustu/
END:VEVENT
BEGIN:VEVENT
DTSTART;VALUE=DATE:20190227
DTEND;VALUE=DATE:20190304
DTSTAMP:20260423T042240
CREATED:20181115T204550Z
LAST-MODIFIED:20190207T195512Z
UID:1308-1551225600-1551657599@raforninn.is
SUMMARY:ECR 2019
DESCRIPTION:Ráðstefna European Society of Radiology er stærsti viðburður myndgreiningarfólks í Evrópu ár hvert. Dagskráin er metnaðarfull og skipuleggjendur leggja mikla vinnu í að gera ráðstefnu hvers árs enn betri en þá síðustu. \nNánari upplýsingar á https://www.myesr.org/congress \nArnartíðindi eru með lista yfir íslenskt myndgreiningarfólk sem frést hefur að verði á ECR 2019. \n 
URL:https://raforninn.is/event/ecr-2019/
LOCATION:Austria Center Vienna\, Bruno-Kreisky-Platz 1\, Wien\, 1220\, Austria
END:VEVENT
BEGIN:VEVENT
DTSTART;VALUE=DATE:20190208
DTEND;VALUE=DATE:20190210
DTSTAMP:20260423T042240
CREATED:20181115T204046Z
LAST-MODIFIED:20181115T205347Z
UID:1306-1549584000-1549756799@raforninn.is
SUMMARY:UT messan 2019
DESCRIPTION:UTmessan inniheldur marga viðburði og allir styðja þeir við markmið UTmessunnar sem er að sýna hve stór og fjölbreyttur tölvugeirinn á Íslandi er\, með það að markmiði að fjölga þeim sem velja sér tölvu- og tæknigreinar sem framtíðarstarfsvettvang. Öll helstu tölvu- og tæknifyrirtæki landsins taka þátt í viðburðum UTmessunnar. \nNánari upplýsingar á https://utmessan.is/
URL:https://raforninn.is/event/ut-messan-2019/
LOCATION:Harpa Conference Center\, Austurbakka 2\, Reykjavík\, 101\, Iceland
END:VEVENT
BEGIN:VEVENT
DTSTART;VALUE=DATE:20190121
DTEND;VALUE=DATE:20190126
DTSTAMP:20260423T042240
CREATED:20190114T205846Z
LAST-MODIFIED:20190115T232348Z
UID:1385-1548028800-1548460799@raforninn.is
SUMMARY:Læknadagar 2019
DESCRIPTION:Á Læknadögum er margt áhugavert fyrir allt heilbrigðisstarfsfólk. \nAllir heilbrigðisstarfsmenn eru velkomnir á Læknadaga og hægt er að kaupa aðgang að dagskrá í Hörpu þegar ráðstefna hefst. Skráningarborðið og miðasala er opið alla dagana á meðan á ráðstefnu stendur. Eingöngu dagpassar eru þó í boði en dagpassinn kostar kr. 13.000. Ekki er hægt að kaupa sig inn á staka fyrirlestra eða hálfan dag. \nÞað er mælt með því að mæta snemma ef gestir eru að kaupa sér passa á staðnum þar sem raðir geta myndast nokkrum mínútum áður en fyrirlestrar hefjast. Það má einnig nefna að ekki er hægt að senda reikning á fyrirtæki fyrir þátttökugjöldum heldur þarf að greiða þátttökugjöld við skráningu. \nÞeir sem vilja meiri upplýsingar geta haft samband við radstefnur@icelandtravel.is \nDagskrána má m.a. finna í Læknablaðinu og ritstjóri Arnartíðinda tók í fljótheitum saman yfirlit um dagskrárliði sem gætu vakið áhuga flestra: \nMánudaginn 21. janúar eru hádegisverðarfundir með fókus á samskipti milli heilbrigðisstétta og innan þeirra. Seinnipartinn má t.d. benda á umfjöllun um teymisvinnu\, þróun hennar og framtíðaráskoranir. \nAllir vilja geta notið efri áranna\, með heilann í góðu lagi\, og þess vegna má benda á að á þriðjudagsmorgni er meðal annars fjallað um aðferðir sem fólk getur notað alla ævi til að minnka líkur á heilabilun. Seinnipart dagsins er t.d. hægt að fræðast um niðurstöður könnunar á líðan og starfsaðstæðum lækna á Íslandi. \nFyrri hluta miðvikudags eru a.m.k. tvær fyrirlestraraðir áhugaverðar fyrir alla; annarsvegar er fjallað um langvinna\, útbreidda stoðkerfisverki\, m.a. af völdum vefjagigtar\, og hinsvegar er umfjöllun um ofbeldi. Seinnipartinn má m.a. benda á fyrirlestraraðir um augnþurrk og um óvinnufærni og kl. 16:20 er mjög áhugaverður dagskrárliður þar sem tíu heimilislæknar á ýmsum aldri og frá ýmsum stöðum segja frá eftirminnilegum atvikum úr starfi sínu. Á miðvikudagskvöld er svo fundur opinn almenningi þar sem fjallað er um bólusetningar á Íslandi. \nHeilsa og líðan læknanema og lækna er í brennidepli fyrripart fimmtudagsins 24. janúar og í hádeginu er fundur þar sem áhugaverð fullyrðing kemur fram í yfirskrift: „Rafræn skráning sjúklinga er einn helsti streituvaldur lækna í starfi\, hvað er til ráða?“ Fundurinn er á vegum styrktaraðila og er forvitnilegt að vita hvað kemur fram á honum. \nÁ föstudagsmorgninum er meðal annars hægt að fræðast um fjarheilbrigðisþjónustu á Íslandi\, sem er mjög áhugavert í landi með dreifðri byggð og oft erfiðum samgöngum. Seinnipart föstudags má svo benda á skemmtilega fyrirlestraröð þar sem tekin eru fyrir\, bæði í gamni og alvöru\, áföll og áfallastreita í bókmenntum fyrri alda. Læknadögum lýkur svo með skemmtun á föstudagskvöldi.
URL:https://raforninn.is/event/laeknadagar-2019/
LOCATION:Harpa Conference Center\, Austurbakka 2\, Reykjavík\, 101\, Iceland
END:VEVENT
BEGIN:VEVENT
DTSTART;VALUE=DATE:20190109
DTEND;VALUE=DATE:20190206
DTSTAMP:20260423T042240
CREATED:20190109T190655Z
LAST-MODIFIED:20190206T175153Z
UID:1380-1546992000-1549411199@raforninn.is
SUMMARY:Raförninn óskar eftir tæknimanni.
DESCRIPTION:Raförninn óskar eftir að ráða tæknimann í þjónustuteymi fyrirtækisins. Meginverkefni eru uppsetningar\, viðhald\, eftirlit og gæðamælingar ýmissa lækningatækja\, auk annarra tilfallandi verkefna. \nGott tækifæri til að vinna í samhentum hópi\, að fjölbreyttum og spennandi verkefnum fyrir góða viðskiptavini. \nNánari upplýsingar á job.is og/eða í síma 698 8118
URL:https://raforninn.is/event/raforninn-oskar-eftir-taeknimanni/
END:VEVENT
BEGIN:VEVENT
DTSTART;TZID=UTC:20181211T200000
DTEND;TZID=UTC:20181211T220000
DTSTAMP:20260423T042240
CREATED:20181207T182832Z
LAST-MODIFIED:20181207T183419Z
UID:1362-1544558400-1544565600@raforninn.is
SUMMARY:Jólafundur Félags geislafræðinga!
DESCRIPTION:
URL:https://raforninn.is/event/jolafundur-felags-geislafraedinga-2/
LOCATION:Borgartún 6\, Borgartún 6\, Reykjavík\, 105\, Iceland
END:VEVENT
BEGIN:VEVENT
DTSTART;VALUE=DATE:20181125
DTEND;VALUE=DATE:20181201
DTSTAMP:20260423T042240
CREATED:20180810T131735Z
LAST-MODIFIED:20181115T194903Z
UID:1205-1543104000-1543622399@raforninn.is
SUMMARY:RSNA 2018
DESCRIPTION:Árleg ráðstefna Radiological Society of North America er viðburður sem hver einasta manneskja í myndgreiningargeiranum ætti að sækja að minnsta kosti einu sinni… og helst sem oftast! \nRSNA 2018 er engin undantekning – Ótrúlega vönduð og umfangsmikil dagskrá. \nNánari upplýsingar og skráning\, á vefsíðu RSNA 2018 \nListi yfir Íslendinga sem Arnartíðindi hafa frétt að séu á leið á RSNA í ár er kominn á raforninn.is
URL:https://raforninn.is/event/rsna-2018/
LOCATION:McCormick Place\, Chicago\, McCormick Place\, Chicago\, IL\, United States
END:VEVENT
END:VCALENDAR