BEGIN:VCALENDAR
VERSION:2.0
PRODID:-//Raförninn ehf - ECPv6.15.11//NONSGML v1.0//EN
CALSCALE:GREGORIAN
METHOD:PUBLISH
X-ORIGINAL-URL:https://raforninn.is
X-WR-CALDESC:Events for Raförninn ehf
REFRESH-INTERVAL;VALUE=DURATION:PT1H
X-Robots-Tag:noindex
X-PUBLISHED-TTL:PT1H
BEGIN:VTIMEZONE
TZID:America/Los_Angeles
BEGIN:DAYLIGHT
TZOFFSETFROM:-0800
TZOFFSETTO:-0700
TZNAME:PDT
DTSTART:20210314T100000
END:DAYLIGHT
BEGIN:STANDARD
TZOFFSETFROM:-0700
TZOFFSETTO:-0800
TZNAME:PST
DTSTART:20211107T090000
END:STANDARD
BEGIN:DAYLIGHT
TZOFFSETFROM:-0800
TZOFFSETTO:-0700
TZNAME:PDT
DTSTART:20220313T100000
END:DAYLIGHT
BEGIN:STANDARD
TZOFFSETFROM:-0700
TZOFFSETTO:-0800
TZNAME:PST
DTSTART:20221106T090000
END:STANDARD
BEGIN:DAYLIGHT
TZOFFSETFROM:-0800
TZOFFSETTO:-0700
TZNAME:PDT
DTSTART:20230312T100000
END:DAYLIGHT
BEGIN:STANDARD
TZOFFSETFROM:-0700
TZOFFSETTO:-0800
TZNAME:PST
DTSTART:20231105T090000
END:STANDARD
END:VTIMEZONE
BEGIN:VTIMEZONE
TZID:UTC
BEGIN:STANDARD
TZOFFSETFROM:+0000
TZOFFSETTO:+0000
TZNAME:UTC
DTSTART:20190101T000000
END:STANDARD
END:VTIMEZONE
BEGIN:VEVENT
DTSTART;TZID=America/Los_Angeles:20221205T200000
DTEND;TZID=America/Los_Angeles:20221205T220000
DTSTAMP:20260421T133956
CREATED:20221121T141357Z
LAST-MODIFIED:20221121T141400Z
UID:2453-1670270400-1670277600@raforninn.is
SUMMARY:Jóla- og afmælisfundur FG
DESCRIPTION:Jóla-/afmælisfundur \n\n\n\nÍ tilefni 50 ára afmæli Félags geislafræðinga verður haldinn veglegri jóla-/afmælisfundur í ár. \n\n\n\nAf því tilefni höfum við fengið Ara Eldjárn til að koma og skemmta okkur. \n\n\n\nÞað er ánægjulegt að segja frá því að nú eru númeraðar nælur geislafræðinga í Félagi geislafræðinga tilbúnar og verða þær afhentar á fundinum. \n\n\n\nVeglegar veitingar í boði \n\n\n\nFundurinn verður þann 5. desember\, kl. 20.00 á 4. hæð í Borgartúni 6 . \n\n\n\nAthugið að allir þurfa að skrá sig á fundinn hér \n\n\n\nhttps://docs.google.com/forms/d/e/1FAIpQLSfWpU37KHRM3IEnLJTNUi5F2xrhjbnsvy_xJaFf_7j2ajRAwQ/viewform?usp=sharing \n\n\n\nHlökkum til að sjá ykkur \n\n\n\nStjórn og menntunarnefnd FG
URL:https://raforninn.is/event/jola-og-afmaelisfundur-fg/
LOCATION:Borgartún 6\, Borgartún 6\, Reykjavík\, 105\, Iceland
END:VEVENT
BEGIN:VEVENT
DTSTART;VALUE=DATE:20221127
DTEND;VALUE=DATE:20221202
DTSTAMP:20260421T133956
CREATED:20221013T194527Z
LAST-MODIFIED:20221024T125730Z
UID:2358-1669507200-1669939199@raforninn.is
SUMMARY:RSNA 2022 - Í raunheimum og netheimum
DESCRIPTION:Árleg ráðstefna RSNA er haldin dagana 27. nóvember til 1. desember 2022 og fer að vanda fram í Chicagoborg\, nánar tiltekið í ráðstefnuhöllinni McCormick Place. Nánari upplýsingar og skráning er á vefsíðu ráðstefnunnar. \nHinn margfræga og eftirspurða þátttakendalista Arnartíðinda er að finna hér 🙂
URL:https://raforninn.is/event/rsna-2022-i-raunheimum-og-netheimum/
LOCATION:McCormick Place\, Chicago\, McCormick Place\, Chicago\, IL\, United States
END:VEVENT
BEGIN:VEVENT
DTSTART;TZID=America/Los_Angeles:20221027T200000
DTEND;TZID=America/Los_Angeles:20221027T220000
DTSTAMP:20260421T133956
CREATED:20221025T094048Z
LAST-MODIFIED:20221025T100943Z
UID:2428-1666900800-1666908000@raforninn.is
SUMMARY:Félag geislafræðinga - Fræðslufundur
DESCRIPTION:Dagskrá fundar: \n\n\n\nSetningGeislafræðingar kynna lokaritgerðir í diplomanámi í geislafræði á meistarastigi við HÍ.\n\n\n\nÁrný Sif Kristínardóttir: Botnlangaómun gæti verið ásættanleg rannsókn sem gæti leyst af hólmi tölvusneiðmyndir af kviðarholi.Silja Helgadóttir: TS þvagfærayfirlit – Fara sjúklingar með grun um nýrnasteina í réttan farveg til greiningar?Ársæll Ingi Guðjónsson: Tökugildi í röntgenrannsóknum á neðri útlimum barna – Er verið að nota rétt tökugildi?\n\n\n\nFyrirlestur Árelía Eydís Guðmundsdóttir : Er hægt að ná hinum gullna meðalvegi: Jafnvægi milli vinnu og einkalífs.Veitingar\n\n\n\nFundurinn er staðfundur en verður streymt til þeirra sem búa út á landi sé þess óskað. Vinsamlegast látið vita ef svo er á netfangið geislar@bhm.is \n\n\n\nHvetjum félagsfólk til þess að fjölmenna! \n\n\n\nAthugið frestur til þess að skrá sig á fundinn er þriðjudagurinn 25. október.Skráning hér https://docs.google.com/forms/d/1xK7G0S1vJXYwqZ_tNOJI95L5G_dhLfhT2pMAK5wpiKA/edit \n\n\n\n\n\n\n\nFélag geislafræðingaBorgartúni 6 – 105 Reykjavíks. 595 5186geislar@bhm.is  – https://felaggeislafraedinga.is/
URL:https://raforninn.is/event/felag-geislafraedinga-fraedslufundur/
LOCATION:Félag geislafræðinga\, Borgartún 6\, Reykjavík\, 105\, Iceland
END:VEVENT
BEGIN:VEVENT
DTSTART;VALUE=DATE:20220713
DTEND;VALUE=DATE:20220718
DTSTAMP:20260421T133956
CREATED:20210906T205637Z
LAST-MODIFIED:20221017T152712Z
UID:2162-1657670400-1658102399@raforninn.is
SUMMARY:ECR 2022 frestað fram í júlí
DESCRIPTION:European Congress of Radiology sem átti að fara fram í Vínarborg í mars 2022 hefur verið frestað til 13. – 17. júlí.\nÞá verður ráðstefnan bæði „onsite“ og „online“ og auk þess verður vefviðburður 2. – 6 mars\, þegar ráðstefnan átti upphaflega að vera.\n\nNánari upplýsingar eru á vefsíðu ráðstefnunnar. Þar er einnig hægt að skrá sig og gildir skráning á allar „útgáfur“ ráðstefnunnar\, á vefnum og í raunheimum.\n\nNánari upplýsingar má m.a. finna í grein á AuntminnieEurope.\n\n 
URL:https://raforninn.is/event/ecr-2022-i-eigin-personu/
LOCATION:Austria Center Vienna\, Bruno-Kreisky-Platz 1\, Wien\, 1220\, Austria
END:VEVENT
BEGIN:VEVENT
DTSTART;TZID=UTC:20220525T083000
DTEND;TZID=UTC:20220525T190000
DTSTAMP:20260421T133956
CREATED:20220330T032323Z
LAST-MODIFIED:20220330T032323Z
UID:2337-1653467400-1653505200@raforninn.is
SUMMARY:UT messan 2022
DESCRIPTION:UT messan er fyrir alla sem hafa áhuga á tölvum og tækni… og hver hefur það ekki? 😉 \nUpplýsingar og skráning á vefsíðu ráðstefnunnar / sýningarinnar: https://www.utmessan.is/
URL:https://raforninn.is/event/ut-messan-2022/
LOCATION:Grand Hótel\, Sigtún 38\, Reykjavík\, 105\, Iceland
END:VEVENT
BEGIN:VEVENT
DTSTART;VALUE=DATE:20211128
DTEND;VALUE=DATE:20211203
DTSTAMP:20260421T133956
CREATED:20211027T190121Z
LAST-MODIFIED:20211110T203931Z
UID:2241-1638057600-1638489599@raforninn.is
SUMMARY:RSNA listi Arnartíðinda!
DESCRIPTION:Hér birtist hinn margfrægi og eftirspurði listi Arnartíðinda yfir íslenskt röntgenfólk á leið á RSNA ráðstefnuna í Chicago 🙂 Þeir sem vilja láta bæta nafni sínu á listann eru beðnir að hafa samband við ritstjóra með samskiptaleið að eigin vali\, t.d. með tölvupósti (edda@raforninn.is) eða í síma 860 3748.\nÞeir sem vilja láta fjarlægja nafn sitt af listanum\, eða óska eftir að það verði ekki birt\, eru einnig beðnir að láta vita.\nRitstjóri verður líka mjög þakklátur fyrir ábendingar ef villur hafa slæðst inn á listann. \n\n\n\nAgnes Benediktsdóttir\nGeislafræðingur\nLSH\n\n\nÁsbjörn Jónsson\nRöntgenlæknir\nSAk Akureyri\n\n\nÁskell Löve\nForstöðulæknir\nSAk Akureyri\n\n\nBirgitta Gunnarsdóttir\nGeislafræðingur\nLSH\n\n\nBjörk Baldursdóttir\nGeislafræðingur\nLSH\n\n\nElvar Örn Birgisson\nForstöðugeislafræðingur\nSAk Akureyri\n\n\nGuðmundur Hreiðarsson\nSöluráðgjafi \nHealthco / Fastus\n\n\nGunnar Líndal\nForstöðum. Rekstrardeildar\nSAk Akureyri\n\n\nHelga Auðunsdóttir\nGeislafræðingur\nHSS Keflavík\n\n\nIrena Sylva Roe\nGeislafræðingur\nLSH\n\n\nJórunn Garðarsdóttir \nYfirgeislafræðingur\nHSS Keflavík\n\n\nKatrín Lára Lárusdóttir\nGeislafræðingur\nLSH\n\n\nSólveig Svava Gísladóttir\nGeislafræðingur\nLSH\n\n\nStefán Karl Sævarsson\nViðskiptastjóri\nMedor\n\n\nStefán S. Skúlason \nSöluráðgjafi\nHealthco / Fastus\n\n\nSteinunn Traustadóttir\nGeislafræðingur\nLSH
URL:https://raforninn.is/event/rsna-listi-arnartidinda/
LOCATION:McCormick Place\, Chicago\, McCormick Place\, Chicago\, IL\, United States
END:VEVENT
BEGIN:VEVENT
DTSTART;VALUE=DATE:20211128
DTEND;VALUE=DATE:20211203
DTSTAMP:20260421T133956
CREATED:20210916T192630Z
LAST-MODIFIED:20211027T192628Z
UID:2174-1638057600-1638489599@raforninn.is
SUMMARY:RSNA 2021 - Í raunheimum og netheimum
DESCRIPTION:RSNA ráðstefnan verður haldin í Chicago í ár og því möguleiki að sækja ráðstefnuna í eigin persónu. Flottur hópur Íslendinga er þegar búinn að ákveða að fara og hinn landsþekkti RSNA listi Arnartíðinda er hér… \nNánari upplýsingar og skráning er á vefsíðu ráðstefnunnnar
URL:https://raforninn.is/event/rsna-2021-i-raunheimum-og-netheimum/
LOCATION:McCormick Place\, Chicago\, McCormick Place\, Chicago\, IL\, United States
END:VEVENT
BEGIN:VEVENT
DTSTART;TZID=UTC:20211007T110000
DTEND;TZID=UTC:20211007T120000
DTSTAMP:20260421T133956
CREATED:20210927T193147Z
LAST-MODIFIED:20210927T193236Z
UID:2187-1633604400-1633608000@raforninn.is
SUMMARY:Kynning á forriti sem les úr gæðamælingamyndum
DESCRIPTION:Raförninn býður til kynningar á forriti sem hefur verið í þróun hjá fyrirtækinu. Forritið gerir mánaðarlegar gæðamælingar mun fljótlegri og einfaldari fyrir geislafræðinga og aðra.\nAllir velkomnir og við yrðum þakklát ef fólk vildi áframsenda boð á sína vini  \nNánari upplýsingar í Arnartíðindum…\n…og á Facebook síðu Rafarnarins
URL:https://raforninn.is/event/kynning-a-forriti-sem-les-ur-gaedamaelingamyndum/
LOCATION:Verkís\, Ofanleiti 2 Rvík\, Ofanleiti 2\, Reykjavík\, Iceland
END:VEVENT
BEGIN:VEVENT
DTSTART;TZID=UTC:20210826T163000
DTEND;TZID=UTC:20210826T203000
DTSTAMP:20260421T133956
CREATED:20210824T183702Z
LAST-MODIFIED:20210824T183736Z
UID:2159-1629995400-1630009800@raforninn.is
SUMMARY:70 ára afmælisráðstefna KÍ
DESCRIPTION:70 ára afmælisráðstefna Krabbameinsfélags Íslands fer fram fimmtudaginn 26. ágúst kl. 16:30 – 20:30 í Háskólanum í Reykjavík. \nRáðstefnan er ókeypis og allir hjartanlega velkomnir en fólk er beðið að skrá þátttöku hér.
URL:https://raforninn.is/event/70-ara-afmaelisradstefna-ki/
LOCATION:Háskólinn í Reykjavík\, Menntavegur 1\, Reykjavík\, 101\, Iceland
END:VEVENT
BEGIN:VEVENT
DTSTART;TZID=UTC:20210809T130000
DTEND;TZID=UTC:20210809T160000
DTSTAMP:20260421T133956
CREATED:20210726T194832Z
LAST-MODIFIED:20210726T194901Z
UID:2139-1628514000-1628524800@raforninn.is
SUMMARY:Vönduð íslenska\, tölvupóstar og stuttir textar - Fjarnámskeið
DESCRIPTION:Mjög áhugavert námskeið sem kennt er reglulega hjá Endurmenntun HÍ. Næsta námskeið er fjarnámskeið\, mánudaginn 9. ágúst kl. 13:00 – 16:00. \nNánari upplýsingar og skráning á vefsíðu Endurmenntunar \nÚr kynningartexta námskeiðsins: „Í langflestum tilvikum eru textar samdir til þess að aðrir lesi þá. Nokkur lykilatriði sem hafa verður í huga eru tími\, sjálfsöryggi\, þekking á viðfangsefni\, bygging texta\, málfar og birting. Farið verður í nokkur helstu einkenni texta sem samdir eru á íslensku og þátttakendur þjálfaðir í að semja stutta texta\, t.d. tölvupósta\, efni á innri vefi\, heimasíður og fréttabréf.“ \n 
URL:https://raforninn.is/event/vondud-islenska-tolvupostar-og-stuttir-textar-fjarnamskeid/
LOCATION:Endurmenntun HÍ\, Dunhagi 7\, Reykjavik\, Iceland
END:VEVENT
BEGIN:VEVENT
DTSTART;TZID=UTC:20210806T161500
DTEND;TZID=UTC:20210816T161500
DTSTAMP:20260421T133956
CREATED:20210726T195401Z
LAST-MODIFIED:20210726T195527Z
UID:2142-1628266500-1629130500@raforninn.is
SUMMARY:Akademísk vinnubrögð - Staðnámskeið
DESCRIPTION:Vandað námskeið til að rifja upp og læra eitthvað nýtt um góð vinnubrögð í námi og rannsóknum. Veitt er þjálfun í vinnubrögðum og grundvallaraðferðum sem öllum er nauðsynlegt að tileinka sér í háskólanámi. Upplagt fyrir þá sem ætla í (framhalds)nám eftir eitthvert hlé. \nKennt er dagana 6.\, 9.\, 10.\, 12.\, 13. og 16. ágúst kl. 16:15 – 19:00 (6x) \nNánari upplýsingar og skráning á vefsíðu Endurmenntunar HÍ.
URL:https://raforninn.is/event/akademisk-vinnubrogd-stadnamskeid/
LOCATION:Endurmenntun HÍ\, Dunhagi 7\, Reykjavik\, Iceland
END:VEVENT
BEGIN:VEVENT
DTSTART;TZID=UTC:20210408T170000
DTEND;TZID=UTC:20210408T190000
DTSTAMP:20260421T133956
CREATED:20210331T180015Z
LAST-MODIFIED:20210331T180015Z
UID:2097-1617901200-1617908400@raforninn.is
SUMMARY:Aðalfundur Félags geislafræðinga - Fjarfundur!
DESCRIPTION:Aðalfundarboð 2021 \nAðalfundur Félags geislafræðinga verður haldinn\nfimmtudaginn 8. apríl 2021 kl 17. \nFundurinn verður fjarfundur\, á Zoom. Allir geislafræðingar eiga að hafa fengið tölvupóst með nánari upplýsingum.  \nDagskrá aðalfundar verður skv. lögum félagsins:  \n\nSkýrsla stjórnar.\nEndurskoðaðir reikningar félagsins kynntir og bornir undir fundinn.\nLagabreytingar.\nFjárhagsáætlun stjórnar kynnt ásamt ákvörðun um félagsgjöld.\nKosning stjórnar\, varamanna og skoðunarmanna reikninga.\nKosning í lögboðnar nefndir félagsins.\nÖnnur mál.\n\nFyrir hönd stjórnar FG\nKatrín Sigurðardóttir\, formaður \nFélag geislafræðinga \nBorgartúni 6 – 105 Reykjavík \n\n595 5186  – 595 5187\n\ngeislar@bhm.is  – www.sigl.is
URL:https://raforninn.is/event/adalfundur-felags-geislafraedinga-fjarfundur/
END:VEVENT
BEGIN:VEVENT
DTSTART;TZID=UTC:20210315T130000
DTEND;TZID=UTC:20210315T150000
DTSTAMP:20260421T133956
CREATED:20210212T211454Z
LAST-MODIFIED:20210212T212132Z
UID:2070-1615813200-1615820400@raforninn.is
SUMMARY:Fjarnámskeið - Fjarteymisvinna
DESCRIPTION:Námskeið hjá Endurmenntun HÍ: „Það getur verið mjög krefjandi að vinna saman eingöngu í gegnum netið og áskorun að ná árangri sem teymi í fjarvinnu. Á námskeiðinu verður farið yfir lykilatriði sem snúa að árangursríkri teymisvinnu\, hvernig við látum tæknina vinna með okkur og viðhöldum um leið kraftmikilli liðsheild.“ \nNánari upplýsingar og skráning hjá EHÍ
URL:https://raforninn.is/event/fjarnamskeid-fjarteymisvinna/
END:VEVENT
BEGIN:VEVENT
DTSTART;TZID=UTC:20210315T083000
DTEND;TZID=UTC:20210317T083000
DTSTAMP:20260421T133956
CREATED:20210212T211624Z
LAST-MODIFIED:20210212T212355Z
UID:2072-1615797000-1615969800@raforninn.is
SUMMARY:Fjarnámskeið - Verkefnastjórnun
DESCRIPTION:Námskeið hjá Endurmenntun HÍ: „Námskeiðið veitir heildarsýn á uppbyggingu verkefna og hlutverk verkefnastjórans.“ \nNánari upplýsingar og skráning hjá EHÍ.
URL:https://raforninn.is/event/fjarnamskeid-verkefnastjornun/
END:VEVENT
BEGIN:VEVENT
DTSTART;VALUE=DATE:20210205
DTEND;VALUE=DATE:20210207
DTSTAMP:20260421T133956
CREATED:20201113T181439Z
LAST-MODIFIED:20201113T181439Z
UID:2010-1612483200-1612655999@raforninn.is
SUMMARY:UT-messan 2021 - Í rafheimum
DESCRIPTION:UT-messan 2021 verður haldin 5. og 6. febrúar – einungis í rafheimum! Þetta er 11. UT-messan og býður upp á ný tækifæri og lausnir. \nUT-messu vikan verður á sínum stað. Ráðstefnudagur verður á föstudeginum\, með nokkrum dagskrárlínum. Dagskrá laugardagsins er á vegum skólanna og verður opin öllum. \nUT-messan: Þar sem allt tengist – Hvar sem þú ert! \nNánari upplýsingar og skráning er á vefsíðu UT-messunnar. \n 
URL:https://raforninn.is/event/ut-messan-2021-i-rafheimum/
END:VEVENT
BEGIN:VEVENT
DTSTART;VALUE=DATE:20210118
DTEND;VALUE=DATE:20210123
DTSTAMP:20260421T133956
CREATED:20210108T234339Z
LAST-MODIFIED:20210108T234339Z
UID:2042-1610928000-1611359999@raforninn.is
SUMMARY:Læknadagar 2021 - Líka streymt á Facebook
DESCRIPTION:Læknadagar verða haldnir 18. – 22. janúar nk. og eru að vanda opnir öllu heilbrigðisstarfsfólki. Í ár verður dagskrá Læknadaga streymt á Facebook\, þannig að enn auðveldara en venjulega er að fylgjast með \nNánari upplýsingar og skráning er á vefsíðu Læknadaga. \nDagskrána má einnig sjá í Læknablaðinu.
URL:https://raforninn.is/event/laeknadagar-2021-lika-streymt-a-facebook/
END:VEVENT
BEGIN:VEVENT
DTSTART;VALUE=DATE:20201129
DTEND;VALUE=DATE:20201206
DTSTAMP:20260421T133956
CREATED:20200527T224857Z
LAST-MODIFIED:20200527T224857Z
UID:1925-1606608000-1607212799@raforninn.is
SUMMARY:RSNA 2020 - Fjar-ráðstefna !!
DESCRIPTION:Báðar stóru ráðstefnurnar í heimi myndgreiningarfólks verða eingöngu á vefnum þetta árið. ECR í júlí og RSNA á sínum hefðbunda tíma\, nánar tiltekið 29. nóvember til 5 desember 2020. \nSkráning á RSNA opnar 22. júlí og upplýsingar eru byrjaðar að tínast inn á vefsíðu Radiological Society of North America. \nÞetta er virkilega spennandi tækifæri til að prófa eitthvað nýtt og sjá hvernig skipuleggjendum ráðstefnunnar tekst til við að halda þennan risavaxna viðburð á veraldarvefnum.
URL:https://raforninn.is/event/rsna-2020-fjar-radstefna/
END:VEVENT
BEGIN:VEVENT
DTSTART;TZID=UTC:20201127T083000
DTEND;TZID=UTC:20201127T123000
DTSTAMP:20260421T133956
CREATED:20201112T172506Z
LAST-MODIFIED:20201112T172506Z
UID:2008-1606465800-1606480200@raforninn.is
SUMMARY:Heilbrigðisþing 2020 - Rafrænt
DESCRIPTION:Þann 27. nóvember 2020 boðar heilbrigðisráðuneytið til heilbrigðisþings um mönnun og menntun í heilbrigðisþjónustunni með áherslu á nýsköpun. Þingið er rafrænt og verður streymt frá síðunni www.heilbrigdisthing.is \nMikilvæg málefni fyrir allt heilbrigðisstarfsfólk\, ekki síst myndgreiningarfólk sem lengi hefur strítt við mönnunarvanda. \nÚr kynningartexta þingsins:\n„Líkt og fjallað er um í heilbrigðisstefnu til ársins 2030 er mönnun heilbrigðisþjónustu alþjóðleg áskorun. Samkeppni um mannauðinn er vaxandi og eftirspurn eftir íslensku heilbrigðisstarfsfólki til starfa erlendis mikil. Því er nauðsynlegt að stöðugt sé fjárfest í menntun og þjálfun heilbrigðisstarfsfólks. Einnig er ljóst að vaxandi þörf er fyrir nýsköpun í heilbrigðisþjónustu til að takast á við aukin verkefni. Tækifærin eru mörg en til að nýta þau skiptir miklu máli að lagaumgjörð heilbrigðismála veiti nægilegt svigrúm til þróunar og nýsköpunar. \nHér á landi höfum við vel menntað heilbrigðisstarfsfólk sem staðið hefur í framlínunni og sýnt ótrúlegan sveigjanleika\, hugvit og aðlögunarhæfni á tímum COVID-19 farsóttarinnar. Mikil þekking og reynsla hefur skapast og nýjar leiðir og lausnir orðið til svo unnt sé að halda úti mikilvægri heilbrigðisþjónustu við landsmenn við erfiðar aðstæður. Án efa mun margvíslegur lærdómur sem af þessu ástandi hefur hlotist nýtast heilbrigðiskerfinu til framtíðar. Síðast en ekki síst ætti þessi reynsla að brýna okkur til þess að hlúa að heilbrigðiskerfinu\, styrkja og efla menntun heilbrigðisstarfsfólks\, bæta starfsumhverfi þess\, vinna að tryggri mönnun heilbrigðiskerfisins til framtíðar og efla vísindi og nýsköpun.“
URL:https://raforninn.is/event/heilbrigdisthing-2020-rafraent/
END:VEVENT
BEGIN:VEVENT
DTSTART;VALUE=DATE:20200715
DTEND;VALUE=DATE:20200720
DTSTAMP:20260421T133956
CREATED:20200414T232016Z
LAST-MODIFIED:20200414T232016Z
UID:1902-1594771200-1595203199@raforninn.is
SUMMARY:ECR 2020 - Fjar-ráðstefna!!
DESCRIPTION:European Society of Radiology hefur ákveðið að ECR ráðstefnan verði vef-viðburður þetta árið og stendur hún yfir dagana 15. – 19. júlí nk. \nAllar upplýsingar er að finna á vefsíðu ráðstefnunnar.
URL:https://raforninn.is/event/ecr-2020-fjar-radstefna/
END:VEVENT
BEGIN:VEVENT
DTSTART;VALUE=DATE:20200602
DTEND;VALUE=DATE:20200708
DTSTAMP:20260421T133956
CREATED:20200321T000314Z
LAST-MODIFIED:20200324T195745Z
UID:1876-1591056000-1594166399@raforninn.is
SUMMARY:ESMRMB - Frítt fjarnámskeið í MR eðlisfræði
DESCRIPTION:The European Society for Magnetic Resonance in Medicine and Biology býður upp á frítt grunnnámskeið í eðlisfræði segulómunar. Þetta er 6 vikna námskeið\, einn 60 mínútna fyrirlestur í viku og möguleiki á að vera í beinum samskiptum við fyrirlesara. \nSjá nánar á vefsíðu ESMRMB
URL:https://raforninn.is/event/esmrmb-fritt-vefnamskeid-i-mr-edlisfraedi/
END:VEVENT
BEGIN:VEVENT
DTSTART;TZID=UTC:20200427T103000
DTEND;TZID=UTC:20200427T113000
DTSTAMP:20260421T133956
CREATED:20200422T235219Z
LAST-MODIFIED:20200422T235219Z
UID:1905-1587983400-1587987000@raforninn.is
SUMMARY:BIR - Guidance on using shielding on patients for diagnostic radiology (Ókeypis fjar-fyrirlestur)
DESCRIPTION:The British Institute of Radiology hefur gert þýðingarmikla breytingu á stefnu sinni um notkun geislahlífa á sjúklinga og það verður líklega fordæmisgefandi fyrir mörg önnur Evrópuríki. Þær reglur sem eru í gildi hérlendis núna voru gefnar út af geislavarnastofnunum norðurlandanna árið 2019 og í þeim er aðeins minnst á kynkirtlahlífar. \nÞetta er mjög spennandi mál og um að gera að hlusta á fyrirlestur sem BIR býður upp á mánudaginn 27. apríl nk.  Athugið að evrópskur sumartími er 2 klukkustundum á undan íslenskum tíma\, þannig að fyrirlesturinn hefst klukkan 10:30 hjá okkur. \nNánari upplýsingar og skráning á fyrirlesturinn er á vefsíðu BIR
URL:https://raforninn.is/event/bir-guidance-on-using-shielding-on-patients-for-diagnostic-radiology-okeypis-fjar-fyrirlestur/
END:VEVENT
BEGIN:VEVENT
DTSTART;VALUE=DATE:20200422
DTEND;VALUE=DATE:20210101
DTSTAMP:20260421T133956
CREATED:20200423T000702Z
LAST-MODIFIED:20200423T000802Z
UID:1907-1587513600-1609459199@raforninn.is
SUMMARY:ISRRT & EFRS - Safn kennsluefnis um Covid-19 og myndgreiningu (Ókeypis aðgangur)
DESCRIPTION:Mjög vandað efni frá samtökum myndgreiningarfólks\, f.o.f. ætlað geislafræðingum en er opið fyrir alla. \nAðgangur ókeypis. https://www.elearning.isrrt.org/course/view.php?id=12
URL:https://raforninn.is/event/isrrt-efsr-safn-kennsluefnis-um-covid-19-og-myndgreiningu-okeypis-adgangur/
END:VEVENT
BEGIN:VEVENT
DTSTART;TZID=UTC:20200409T150000
DTEND;TZID=UTC:20200409T160000
DTSTAMP:20260421T133956
CREATED:20200406T174526Z
LAST-MODIFIED:20200406T174526Z
UID:1897-1586444400-1586448000@raforninn.is
SUMMARY:IAEA - CT af lungum v. Covid-19; Prótókollar og geislasparnaður (Frír veffyrirlestur)
DESCRIPTION:Þessi fyrirlestur er reyndar á Skírdag en ókeypis kennsla frá Alþjóða kjarnorkumálastofuninni gæti vel verið þess virði að setjast við tölvuna í klukkutíma jafvel þótt maður eigi frídag. \nNánari upplýsingar og skráning er á vefsíðu IAEA \nAthugið tímasetninguna vel\, samkvæmt töflu sem er aðgengileg á vefsíðunni hefst fyrirlesturinn klukkan 15:00 á íslenskum tíma.
URL:https://raforninn.is/event/iaea-ct-af-lungum-v-covid-19-protokollar-og-geislasparnadur-frir-veffyrirlestur/
END:VEVENT
BEGIN:VEVENT
DTSTART;TZID=UTC:20200407T120000
DTEND;TZID=UTC:20200407T123000
DTSTAMP:20260421T133956
CREATED:20200406T180448Z
LAST-MODIFIED:20200406T180448Z
UID:1899-1586260800-1586262600@raforninn.is
SUMMARY:EHÍ - Ferðalagið innanhúss (Frír fyrirlestur á FB og vef)
DESCRIPTION:Þriðjud. 7. apríl\, ætlar Emilía Borgþórsdóttir\, iðnhönnuður og sjúkraþjálfari\, að fara yfir atriði sem gera „ferðalagið innanhúss“ betra og skemmtilegra.\nFólk ver nú meiri tíma en áður heima og sinnir margvíslegum verkefnum hvort sem er í páskafríi\, við vinnu\, heimanám eða æfingar. Í fyrirlestrinum fjallar hún um hvernig hægt er að hagræða umhverfinu svo það svari kalli ýmissa og mjög svo ólíkra verkefna. Sjálf er hún með fjögur börn á mismunandi skólastigum og eiginmann sem vinnur heima um þessar mundir. Heimilið sinnir nú fleiri hlutverkum en áður og þarf fyrst og fremst að þjóna okkur en vera í senn góður griðastaður þar sem við getum slakað á og notið. \nFyrirlesturinn er ókeypis og allir velkomnir. Hægt er að skrá sig í gegnum heimasíðu EHÍ og fá sendan hlekk á fyrirlesturinn eða fylgjast með viðburðinum á\nFacebook-síðu EHÍ.
URL:https://raforninn.is/event/ehi-ferdalagid-innanhuss-frir-fyrirlestur-a-fb-og-vef/
END:VEVENT
BEGIN:VEVENT
DTSTART;VALUE=DATE:20200403
DTEND;VALUE=DATE:20200601
DTSTAMP:20260421T133956
CREATED:20200403T223930Z
LAST-MODIFIED:20200403T223930Z
UID:1895-1585872000-1590969599@raforninn.is
SUMMARY:ESR Connect - Fríir fjar-fyrirlestrar
DESCRIPTION:European Society of Radiology býður upp á fría fjar-fyrirlestra\, oft með möguleikum á að fá svör við spurningum í rauntíma. \nNánari upplýsingar og skráning er á vefsíðu ESR Connect.
URL:https://raforninn.is/event/esr-connect-friir-fjar-fyrirlestrar/
END:VEVENT
BEGIN:VEVENT
DTSTART;TZID=UTC:20200402T130000
DTEND;TZID=UTC:20200402T160000
DTSTAMP:20260421T133956
CREATED:20200324T195420Z
LAST-MODIFIED:20200324T195420Z
UID:1880-1585832400-1585843200@raforninn.is
SUMMARY:Starfsmennt - Tölvupóstar og stuttir textar (fjarnámskeið)
DESCRIPTION:Þessar vikurnar fara samskipti minna fram augliti til auglitis og tölvupóstar og önnur skrifuð skilaboð hafa aukist. Þá er gott að hafa góða þekkingu á að nota svoleiðis texta 🙂 \nFimmtudaginn 2. apríl 2020 bjóða Starfsmennt og Endurmenntun HÍ upp á vefnámskeið. Það er frítt fyrir félagsmenn Starfsmenntar en aðrir þurfa að greiða sanngjarnt námskeiðsgjald. \nNánari upplýsingar og skráning á vefsíðu Starfsmenntar.
URL:https://raforninn.is/event/starfsmennt-tolvupostar-og-stuttir-textar-fjarnamskeid/
END:VEVENT
BEGIN:VEVENT
DTSTART;TZID=UTC:20200331T180000
DTEND;TZID=UTC:20200602T180000
DTSTAMP:20260421T133956
CREATED:20200327T163548Z
LAST-MODIFIED:20200422T235943Z
UID:1886-1585677600-1591120800@raforninn.is
SUMMARY:EFSR - CT gæði og öryggi (frítt fjarnámskeið)
DESCRIPTION:Tölvusneiðmyndun leikur stórt hlutverk við greiningu Covid-19 og nú býður EFSR\, Evrópusamtök félaga geislafræðinga\, upp á ókeypis og mjög álitlegt fjarnámskeið þar sem farið er vandlega í ýmis atriði tengd geislavörnum\, framkvæmd rannsókna og öryggi sjúklinga í CT. \nNámskeiðið er fimm skipti og tekur yfir dagana 31. mars – 2. júní 2020. Tímasetningin er kl. 20:00 Central European Time\, sem á þessum árstíma er orðinn 2 klst á undan íslenskum tíma. \nÞað er nauðsynlegt að skrá sig á námskeiðið\, þó ekki þurfi að borga fyrir það\, og skráning er hjá EFSR… \nLítið endilega á þessa spennandi dagskrá námskeiðsins
URL:https://raforninn.is/event/efsr-ct-gaedi-og-oryggi-fritt-fjarnamskeid/
END:VEVENT
BEGIN:VEVENT
DTSTART;TZID=UTC:20200325T160000
DTEND;TZID=UTC:20200325T170000
DTSTAMP:20260421T133956
CREATED:20200324T184911Z
LAST-MODIFIED:20200330T232529Z
UID:1878-1585152000-1585155600@raforninn.is
SUMMARY:ESR - Myndgreining og Covid-19 á Ítalíu (ókeypis viðburður á vefnum)
DESCRIPTION:Miðvikudaginn 25. mars býður European Society of Radiology upp á fría umfjöllun um mikilvægi myndgreiningar í baráttu Ítala við Covid-19 faraldurinn. Meðal annars verður rætt við prófessor Nicola Sverzellati\, frá háskólanum í Parma\, sem segir frá helstu áskorunum sem ítalskt myndgreiningarfólk stendur frammi fyrir og viðbrögðum við þeim. \nGætið að því að tímasetningin er Central European Time\, sem á þessum árstíma þýðir að fyrirlesturinn byrjar kl. 16 að íslenskum tíma. \nEins og fyrr segir er viðburðurinn ókeypis en það þarf að skrá sig hér…
URL:https://raforninn.is/event/esr-myndgreining-og-covid-19-a-italiu/
END:VEVENT
BEGIN:VEVENT
DTSTART;VALUE=DATE:20200320
DTEND;VALUE=DATE:20200419
DTSTAMP:20260421T133956
CREATED:20200327T165946Z
LAST-MODIFIED:20200327T165946Z
UID:1891-1584662400-1587254399@raforninn.is
SUMMARY:ESR - Education on Demand\, frír aðgangur til 17. apríl
DESCRIPTION:Í fjórar vikur býður ESR\, Evrópusamtök myndgreiningarfólks\, ókeypis aðgang að öllum vefnámskeiðum\, fjarnámskeiðum\, veffyrirlestrum… í stuttu máli öllu fræðsluefni samtakanna sem aðgengilegt er á vef. \nÞetta er frábært tækifæri fyrir myndgreiningarfólk til að nýta sér mikið magn af sérlega vönduðu efni\, bæði venjulegu námsefni og efni sem er sérstaklega gert til að nýtast sem best á tímum Covid-19. \nAðgangur er á vefsíðu ESR – Education on Demand.
URL:https://raforninn.is/event/esr-education-on-demand-frir-adgangur-til-17-april/
END:VEVENT
BEGIN:VEVENT
DTSTART;VALUE=DATE:20200311
DTEND;VALUE=DATE:20200316
DTSTAMP:20260421T133956
CREATED:20200213T201543Z
LAST-MODIFIED:20200213T201543Z
UID:1856-1583884800-1584316799@raforninn.is
SUMMARY:ECR 2020
DESCRIPTION:Stærsti viðburður myndgreiningarfólks í Evrópu ár hvert! European Congress of Radiology verður reyndar alþjóðlegri með hverju árinu og þar er alltaf feiknarlega margt skemmtilegt og fróðlegt að sjá og heyra. \nÁrið 2020 er ECR haldin dagana 11. – 15. mars og að sjálfsögðu í Vínarborg eins og ævinlega. \nAllar upplýsingar og skráning er á vefsíðu ráðstefnunnar.
URL:https://raforninn.is/event/ecr-2020/
LOCATION:Austria Center Vienna\, Bruno-Kreisky-Platz 1\, Wien\, 1220\, Austria
END:VEVENT
END:VCALENDAR